Workbook

Sheet Calculateur
A1: Calcul du couple de serrage d'une vis (VDI 2230, ISO 898-1)
A2: Choisissez la vis, la classe et le frottement dans les cellules jaunes.
A4: Vis (filetage métrique ISO à pas gros) | B4: M10
A5: Classe de qualité | B5: 8.8
A6: Coefficient de frottement µ (tête et filet) | B6: 0.12
A8: Résultats
A9: Couple de serrage | B9: =(((PI()/4*(((B14-0.64952*B15)+(B14-1.22687*B15))/2)^2)*0.9*B18/SQRT(1+3*(1.5*(B14-0.64952*B15)/(((B14-0.64952*B15)+(B14-1.22687*B15))/2)*(B15/(PI()*(B14-0.64952*B15))+1.155*$B$6))^2))*(0.16*B15+0.58*(B14-0.64952*B15)*$B$6+(B16+B17)/4*$B$6)/1000) | C9: N·m
A10: Précontrainte de montage | B10: =((PI()/4*(((B14-0.64952*B15)+(B14-1.22687*B15))/2)^2)*0.9*B18/SQRT(1+3*(1.5*(B14-0.64952*B15)/(((B14-0.64952*B15)+(B14-1.22687*B15))/2)*(B15/(PI()*(B14-0.64952*B15))+1.155*$B$6))^2))/1000 | C10: kN
A13: Valeurs intermédiaires
A14: d (mm) | B14: =VLOOKUP($B$4,'Données'!$A$2:$E$15,2,FALSE)
A15: Pas P (mm) | B15: =VLOOKUP($B$4,'Données'!$A$2:$E$15,3,FALSE)
A16: Diamètre d'appui sous tête dw (mm) | B16: =VLOOKUP($B$4,'Données'!$A$2:$E$15,4,FALSE)
A17: Trou de passage dh (mm) | B17: =VLOOKUP($B$4,'Données'!$A$2:$E$15,5,FALSE)
A18: Limite d'élasticité Rp0,2 min (MPa) | B18: =IF($B$5="8.8",IF(B14<=16,640,660),IF($B$5="10.9",940,1100))
A19: Diamètre sur flancs d2 (mm) | B19: =(B14-0.64952*B15)
A20: Diamètre à fond de filet d3 (mm) | B20: =(B14-1.22687*B15)
A21: Section résistante As (mm²) | B21: =(PI()/4*(((B14-0.64952*B15)+(B14-1.22687*B15))/2)^2)
A23: Hypothèses : méthode VDI 2230 simplifiée, utilisation de 90 % de la limite d'élasticité (ν = 0,9), même frottement sous tête et dans le filet, limites d'élasticité minimales de l'ISO 898-1 (640 MPa en 8.8 jusqu'à M16, 660 MPa au-delà ; 940 MPa en 10.9 ; 1 100 MPa en 12.9). µ = 0,12 correspond à une visserie acier huilée. Pour un assemblage critique, utilisez le coefficient mesuré ou celui du fabricant.
A24: Source et explications : https://www.baouch.fr/blog/couple-serrage-vis-tableau/

Sheet Données
A1: M | B1: d (mm) | C1: Pas P (mm) | D1: Diamètre d'appui sous tête dw (mm) | E1: Trou de passage dh (mm)
A2: M3 | B2: 3 | C2: 0.5 | D2: 4.6 | E2: 3.4
A3: M4 | B3: 4 | C3: 0.7 | D3: 5.9 | E3: 4.5
A4: M5 | B4: 5 | C4: 0.8 | D4: 6.9 | E4: 5.5
A5: M6 | B5: 6 | C5: 1 | D5: 8.9 | E5: 6.6
A6: M8 | B6: 8 | C6: 1.25 | D6: 11.6 | E6: 9
A7: M10 | B7: 10 | C7: 1.5 | D7: 14.6 | E7: 11
A8: M12 | B8: 12 | C8: 1.75 | D8: 16.6 | E8: 13.5
A9: M14 | B9: 14 | C9: 2 | D9: 19.6 | E9: 15.5
A10: M16 | B10: 16 | C10: 2 | D10: 22.5 | E10: 17.5
A11: M20 | B11: 20 | C11: 2.5 | D11: 28.2 | E11: 22
A12: M24 | B12: 24 | C12: 3 | D12: 33.6 | E12: 26
A13: M27 | B13: 27 | C13: 3 | D13: 38 | E13: 30
... A15: M36 | B15: 36 | C15: 4 | D15: 51.1 | E15: 39
A17: µ | B17: 0.08 | C17: 0.1 | D17: 0.12 | E17: 0.14 | F17: 0.16 | G17: 0.2
A18: Classe de qualité | B18: 8.8 | C18: 10.9 | D18: 12.9

Sheet Tableau µ 0,12
A1: Couples de serrage (N·m) et précontraintes (kN), µ = 0,12
A3: Vis | B3: Pas | C3: 8.8 N·m | D3: 10.9 N·m | E3: 12.9 N·m | F3: 8.8 kN | G3: 10.9 kN | H3: 12.9 kN
A4: ='Données'!A2 | B4: ='Données'!C2 | C4: =(((PI()/4*((('Données'!B2-0.64952*'Données'!C2)+('Données'!B2-1.22687*'Données'!C2))/2)^2)*0.9*(IF('Données'!B2<=16,640,660))/SQRT(1+3*(1.5*('Données'!B2-0.64952*'Données'!C2)/((('Données'!B2-0.64952*'Données'!C2)+('Données'!B2-1.22687*'Données'!C2))/2)*('Données'!C2/(PI()*('Données'!B2-0.64952*'Données'!C2))+1.155*0.12))^2))*(0.16*'Données'!C2+0.58*('Données'!B2-0.64952*'Données'!C2)*0.12+('Données'!D2+'Données'!E2)/4*0.12)/1000) | D4: =(((PI()/4*((('Données'!B2-0.64952*'Données'!C2)+('Données'!B2-1.22687*'Données'!C2))/2)^2)*0.9*(940)/SQRT(1+3*(1.5*('Données'!B2-0.64952*'Données'!C2)/((('Données'!B2-0.64952*'Données'!C2)+('Données'!B2-1.22687*'Données'!C2))/2)*('Données'!C2/(PI()*('Données'!B2-0.64952*'Données'!C2))+1.155*0.12))^2))*(0.16*'Données'!C2+0.58*('Données'!B2-0.64952*'Données'!C2)*0.12+('Données'!D2+'Données'!E2)/4*0.12)/1000) | E4: =(((PI()/4*((('Données'!B2-0.64952*'Données'!C2)+('Données'!B2-1.22687*'Données'!C2))/2)^2)*0.9*(1100)/SQRT(1+3*(1.5*('Données'!B2-0.64952*'Données'!C2)/((('Données'!B2-0.64952*'Données'!C2)+('Données'!B2-1.22687*'Données'!C2))/2)*('Données'!C2/(PI()*('Données'!B2-0.64952*'Données'!C2))+1.155*0.12))^2))*(0.16*'Données'!C2+0.58*('Données'!B2-0.64952*'Données'!C2)*0.12+('Données'!D2+'Données'!E2)/4*0.12)/1000) | F4: =((PI()/4*((('Données'!B2-0.64952*'Données'!C2)+('Données'!B2-1.22687*'Données'!C2))/2)^2)*0.9*(IF('Données'!B2<=16,640,660))/SQRT(1+3*(1.5*('Données'!B2-0.64952*'Données'!C2)/((('Données'!B2-0.64952*'Données'!C2)+('Données'!B2-1.22687*'Données'!C2))/2)*('Données'!C2/(PI()*('Données'!B2-0.64952*'Données'!C2))+1.155*0.12))^2))/1000 | G4: =((PI()/4*((('Données'!B2-0.64952*'Données'!C2)+('Données'!B2-1.22687*'Données'!C2))/2)^2)*0.9*(940)/SQRT(1+3*(1.5*('Données'!B2-0.64952*'Données'!C2)/((('Données'!B2-0.64952*'Données'!C2)+('Données'!B2-1.22687*'Données'!C2))/2)*('Données'!C2/(PI()*('Données'!B2-0.64952*'Données'!C2))+1.155*0.12))^2))/1000 | H4: =((PI()/4*((('Données'!B2-0.64952*'Données'!C2)+('Données'!B2-1.22687*'Données'!C2))/2)^2)*0.9*(1100)/SQRT(1+3*(1.5*('Données'!B2-0.64952*'Données'!C2)/((('Données'!B2-0.64952*'Données'!C2)+('Données'!B2-1.22687*'Données'!C2))/2)*('Données'!C2/(PI()*('Données'!B2-0.64952*'Données'!C2))+1.155*0.12))^2))/1000
A5: ='Données'!A3 | B5: ='Données'!C3 | C5: =(((PI()/4*((('Données'!B3-0.64952*'Données'!C3)+('Données'!B3-1.22687*'Données'!C3))/2)^2)*0.9*(IF('Données'!B3<=16,640,660))/SQRT(1+3*(1.5*('Données'!B3-0.64952*'Données'!C3)/((('Données'!B3-0.64952*'Données'!C3)+('Données'!B3-1.22687*'Données'!C3))/2)*('Données'!C3/(PI()*('Données'!B3-0.64952*'Données'!C3))+1.155*0.12))^2))*(0.16*'Données'!C3+0.58*('Données'!B3-0.64952*'Données'!C3)*0.12+('Données'!D3+'Données'!E3)/4*0.12)/1000) | D5: =(((PI()/4*((('Données'!B3-0.64952*'Données'!C3)+('Données'!B3-1.22687*'Données'!C3))/2)^2)*0.9*(940)/SQRT(1+3*(1.5*('Données'!B3-0.64952*'Données'!C3)/((('Données'!B3-0.64952*'Données'!C3)+('Données'!B3-1.22687*'Données'!C3))/2)*('Données'!C3/(PI()*('Données'!B3-0.64952*'Données'!C3))+1.155*0.12))^2))*(0.16*'Données'!C3+0.58*('Données'!B3-0.64952*'Données'!C3)*0.12+('Données'!D3+'Données'!E3)/4*0.12)/1000) | E5: =(((PI()/4*((('Données'!B3-0.64952*'Données'!C3)+('Données'!B3-1.22687*'Données'!C3))/2)^2)*0.9*(1100)/SQRT(1+3*(1.5*('Données'!B3-0.64952*'Données'!C3)/((('Données'!B3-0.64952*'Données'!C3)+('Données'!B3-1.22687*'Données'!C3))/2)*('Données'!C3/(PI()*('Données'!B3-0.64952*'Données'!C3))+1.155*0.12))^2))*(0.16*'Données'!C3+0.58*('Données'!B3-0.64952*'Données'!C3)*0.12+('Données'!D3+'Données'!E3)/4*0.12)/1000) | F5: =((PI()/4*((('Données'!B3-0.64952*'Données'!C3)+('Données'!B3-1.22687*'Données'!C3))/2)^2)*0.9*(IF('Données'!B3<=16,640,660))/SQRT(1+3*(1.5*('Données'!B3-0.64952*'Données'!C3)/((('Données'!B3-0.64952*'Données'!C3)+('Données'!B3-1.22687*'Données'!C3))/2)*('Données'!C3/(PI()*('Données'!B3-0.64952*'Données'!C3))+1.155*0.12))^2))/1000 | G5: =((PI()/4*((('Données'!B3-0.64952*'Données'!C3)+('Données'!B3-1.22687*'Données'!C3))/2)^2)*0.9*(940)/SQRT(1+3*(1.5*('Données'!B3-0.64952*'Données'!C3)/((('Données'!B3-0.64952*'Données'!C3)+('Données'!B3-1.22687*'Données'!C3))/2)*('Données'!C3/(PI()*('Données'!B3-0.64952*'Données'!C3))+1.155*0.12))^2))/1000 | H5: =((PI()/4*((('Données'!B3-0.64952*'Données'!C3)+('Données'!B3-1.22687*'Données'!C3))/2)^2)*0.9*(1100)/SQRT(1+3*(1.5*('Données'!B3-0.64952*'Données'!C3)/((('Données'!B3-0.64952*'Données'!C3)+('Données'!B3-1.22687*'Données'!C3))/2)*('Données'!C3/(PI()*('Données'!B3-0.64952*'Données'!C3))+1.155*0.12))^2))/1000
A6: ='Données'!A4 | B6: ='Données'!C4 | C6: =(((PI()/4*((('Données'!B4-0.64952*'Données'!C4)+('Données'!B4-1.22687*'Données'!C4))/2)^2)*0.9*(IF('Données'!B4<=16,640,660))/SQRT(1+3*(1.5*('Données'!B4-0.64952*'Données'!C4)/((('Données'!B4-0.64952*'Données'!C4)+('Données'!B4-1.22687*'Données'!C4))/2)*('Données'!C4/(PI()*('Données'!B4-0.64952*'Données'!C4))+1.155*0.12))^2))*(0.16*'Données'!C4+0.58*('Données'!B4-0.64952*'Données'!C4)*0.12+('Données'!D4+'Données'!E4)/4*0.12)/1000) | D6: =(((PI()/4*((('Données'!B4-0.64952*'Données'!C4)+('Données'!B4-1.22687*'Données'!C4))/2)^2)*0.9*(940)/SQRT(1+3*(1.5*('Données'!B4-0.64952*'Données'!C4)/((('Données'!B4-0.64952*'Données'!C4)+('Données'!B4-1.22687*'Données'!C4))/2)*('Données'!C4/(PI()*('Données'!B4-0.64952*'Données'!C4))+1.155*0.12))^2))*(0.16*'Données'!C4+0.58*('Données'!B4-0.64952*'Données'!C4)*0.12+('Données'!D4+'Données'!E4)/4*0.12)/1000) | E6: =(((PI()/4*((('Données'!B4-0.64952*'Données'!C4)+('Données'!B4-1.22687*'Données'!C4))/2)^2)*0.9*(1100)/SQRT(1+3*(1.5*('Données'!B4-0.64952*'Données'!C4)/((('Données'!B4-0.64952*'Données'!C4)+('Données'!B4-1.22687*'Données'!C4))/2)*('Données'!C4/(PI()*('Données'!B4-0.64952*'Données'!C4))+1.155*0.12))^2))*(0.16*'Données'!C4+0.58*('Données'!B4-0.64952*'Données'!C4)*0.12+('Données'!D4+'Données'!E4)/4*0.12)/1000) | F6: =((PI()/4*((('Données'!B4-0.64952*'Données'!C4)+('Données'!B4-1.22687*'Données'!C4))/2)^2)*0.9*(IF('Données'!B4<=16,640,660))/SQRT(1+3*(1.5*('Données'!B4-0.64952*'Données'!C4)/((('Données'!B4-0.64952*'Données'!C4)+('Données'!B4-1.22687*'Données'!C4))/2)*('Données'!C4/(PI()*('Données'!B4-0.64952*'Données'!C4))+1.155*0.12))^2))/1000 | G6: =((PI()/4*((('Données'!B4-0.64952*'Données'!C4)+('Données'!B4-1.22687*'Données'!C4))/2)^2)*0.9*(940)/SQRT(1+3*(1.5*('Données'!B4-0.64952*'Données'!C4)/((('Données'!B4-0.64952*'Données'!C4)+('Données'!B4-1.22687*'Données'!C4))/2)*('Données'!C4/(PI()*('Données'!B4-0.64952*'Données'!C4))+1.155*0.12))^2))/1000 | H6: =((PI()/4*((('Données'!B4-0.64952*'Données'!C4)+('Données'!B4-1.22687*'Données'!C4))/2)^2)*0.9*(1100)/SQRT(1+3*(1.5*('Données'!B4-0.64952*'Données'!C4)/((('Données'!B4-0.64952*'Données'!C4)+('Données'!B4-1.22687*'Données'!C4))/2)*('Données'!C4/(PI()*('Données'!B4-0.64952*'Données'!C4))+1.155*0.12))^2))/1000
A7: ='Données'!A5 | B7: ='Données'!C5 | C7: =(((PI()/4*((('Données'!B5-0.64952*'Données'!C5)+('Données'!B5-1.22687*'Données'!C5))/2)^2)*0.9*(IF('Données'!B5<=16,640,660))/SQRT(1+3*(1.5*('Données'!B5-0.64952*'Données'!C5)/((('Données'!B5-0.64952*'Données'!C5)+('Données'!B5-1.22687*'Données'!C5))/2)*('Données'!C5/(PI()*('Données'!B5-0.64952*'Données'!C5))+1.155*0.12))^2))*(0.16*'Données'!C5+0.58*('Données'!B5-0.64952*'Données'!C5)*0.12+('Données'!D5+'Données'!E5)/4*0.12)/1000) | D7: =(((PI()/4*((('Données'!B5-0.64952*'Données'!C5)+('Données'!B5-1.22687*'Données'!C5))/2)^2)*0.9*(940)/SQRT(1+3*(1.5*('Données'!B5-0.64952*'Données'!C5)/((('Données'!B5-0.64952*'Données'!C5)+('Données'!B5-1.22687*'Données'!C5))/2)*('Données'!C5/(PI()*('Données'!B5-0.64952*'Données'!C5))+1.155*0.12))^2))*(0.16*'Données'!C5+0.58*('Données'!B5-0.64952*'Données'!C5)*0.12+('Données'!D5+'Données'!E5)/4*0.12)/1000) | E7: =(((PI()/4*((('Données'!B5-0.64952*'Données'!C5)+('Données'!B5-1.22687*'Données'!C5))/2)^2)*0.9*(1100)/SQRT(1+3*(1.5*('Données'!B5-0.64952*'Données'!C5)/((('Données'!B5-0.64952*'Données'!C5)+('Données'!B5-1.22687*'Données'!C5))/2)*('Données'!C5/(PI()*('Données'!B5-0.64952*'Données'!C5))+1.155*0.12))^2))*(0.16*'Données'!C5+0.58*('Données'!B5-0.64952*'Données'!C5)*0.12+('Données'!D5+'Données'!E5)/4*0.12)/1000) | F7: =((PI()/4*((('Données'!B5-0.64952*'Données'!C5)+('Données'!B5-1.22687*'Données'!C5))/2)^2)*0.9*(IF('Données'!B5<=16,640,660))/SQRT(1+3*(1.5*('Données'!B5-0.64952*'Données'!C5)/((('Données'!B5-0.64952*'Données'!C5)+('Données'!B5-1.22687*'Données'!C5))/2)*('Données'!C5/(PI()*('Données'!B5-0.64952*'Données'!C5))+1.155*0.12))^2))/1000 | G7: =((PI()/4*((('Données'!B5-0.64952*'Données'!C5)+('Données'!B5-1.22687*'Données'!C5))/2)^2)*0.9*(940)/SQRT(1+3*(1.5*('Données'!B5-0.64952*'Données'!C5)/((('Données'!B5-0.64952*'Données'!C5)+('Données'!B5-1.22687*'Données'!C5))/2)*('Données'!C5/(PI()*('Données'!B5-0.64952*'Données'!C5))+1.155*0.12))^2))/1000 | H7: =((PI()/4*((('Données'!B5-0.64952*'Données'!C5)+('Données'!B5-1.22687*'Données'!C5))/2)^2)*0.9*(1100)/SQRT(1+3*(1.5*('Données'!B5-0.64952*'Données'!C5)/((('Données'!B5-0.64952*'Données'!C5)+('Données'!B5-1.22687*'Données'!C5))/2)*('Données'!C5/(PI()*('Données'!B5-0.64952*'Données'!C5))+1.155*0.12))^2))/1000
A8: ='Données'!A6 | B8: ='Données'!C6 | C8: =(((PI()/4*((('Données'!B6-0.64952*'Données'!C6)+('Données'!B6-1.22687*'Données'!C6))/2)^2)*0.9*(IF('Données'!B6<=16,640,660))/SQRT(1+3*(1.5*('Données'!B6-0.64952*'Données'!C6)/((('Données'!B6-0.64952*'Données'!C6)+('Données'!B6-1.22687*'Données'!C6))/2)*('Données'!C6/(PI()*('Données'!B6-0.64952*'Données'!C6))+1.155*0.12))^2))*(0.16*'Données'!C6+0.58*('Données'!B6-0.64952*'Données'!C6)*0.12+('Données'!D6+'Données'!E6)/4*0.12)/1000) | D8: =(((PI()/4*((('Données'!B6-0.64952*'Données'!C6)+('Données'!B6-1.22687*'Données'!C6))/2)^2)*0.9*(940)/SQRT(1+3*(1.5*('Données'!B6-0.64952*'Données'!C6)/((('Données'!B6-0.64952*'Données'!C6)+('Données'!B6-1.22687*'Données'!C6))/2)*('Données'!C6/(PI()*('Données'!B6-0.64952*'Données'!C6))+1.155*0.12))^2))*(0.16*'Données'!C6+0.58*('Données'!B6-0.64952*'Données'!C6)*0.12+('Données'!D6+'Données'!E6)/4*0.12)/1000) | E8: =(((PI()/4*((('Données'!B6-0.64952*'Données'!C6)+('Données'!B6-1.22687*'Données'!C6))/2)^2)*0.9*(1100)/SQRT(1+3*(1.5*('Données'!B6-0.64952*'Données'!C6)/((('Données'!B6-0.64952*'Données'!C6)+('Données'!B6-1.22687*'Données'!C6))/2)*('Données'!C6/(PI()*('Données'!B6-0.64952*'Données'!C6))+1.155*0.12))^2))*(0.16*'Données'!C6+0.58*('Données'!B6-0.64952*'Données'!C6)*0.12+('Données'!D6+'Données'!E6)/4*0.12)/1000) | F8: =((PI()/4*((('Données'!B6-0.64952*'Données'!C6)+('Données'!B6-1.22687*'Données'!C6))/2)^2)*0.9*(IF('Données'!B6<=16,640,660))/SQRT(1+3*(1.5*('Données'!B6-0.64952*'Données'!C6)/((('Données'!B6-0.64952*'Données'!C6)+('Données'!B6-1.22687*'Données'!C6))/2)*('Données'!C6/(PI()*('Données'!B6-0.64952*'Données'!C6))+1.155*0.12))^2))/1000 | G8: =((PI()/4*((('Données'!B6-0.64952*'Données'!C6)+('Données'!B6-1.22687*'Données'!C6))/2)^2)*0.9*(940)/SQRT(1+3*(1.5*('Données'!B6-0.64952*'Données'!C6)/((('Données'!B6-0.64952*'Données'!C6)+('Données'!B6-1.22687*'Données'!C6))/2)*('Données'!C6/(PI()*('Données'!B6-0.64952*'Données'!C6))+1.155*0.12))^2))/1000 | H8: =((PI()/4*((('Données'!B6-0.64952*'Données'!C6)+('Données'!B6-1.22687*'Données'!C6))/2)^2)*0.9*(1100)/SQRT(1+3*(1.5*('Données'!B6-0.64952*'Données'!C6)/((('Données'!B6-0.64952*'Données'!C6)+('Données'!B6-1.22687*'Données'!C6))/2)*('Données'!C6/(PI()*('Données'!B6-0.64952*'Données'!C6))+1.155*0.12))^2))/1000
A9: ='Données'!A7 | B9: ='Données'!C7 | C9: =(((PI()/4*((('Données'!B7-0.64952*'Données'!C7)+('Données'!B7-1.22687*'Données'!C7))/2)^2)*0.9*(IF('Données'!B7<=16,640,660))/SQRT(1+3*(1.5*('Données'!B7-0.64952*'Données'!C7)/((('Données'!B7-0.64952*'Données'!C7)+('Données'!B7-1.22687*'Données'!C7))/2)*('Données'!C7/(PI()*('Données'!B7-0.64952*'Données'!C7))+1.155*0.12))^2))*(0.16*'Données'!C7+0.58*('Données'!B7-0.64952*'Données'!C7)*0.12+('Données'!D7+'Données'!E7)/4*0.12)/1000) | D9: =(((PI()/4*((('Données'!B7-0.64952*'Données'!C7)+('Données'!B7-1.22687*'Données'!C7))/2)^2)*0.9*(940)/SQRT(1+3*(1.5*('Données'!B7-0.64952*'Données'!C7)/((('Données'!B7-0.64952*'Données'!C7)+('Données'!B7-1.22687*'Données'!C7))/2)*('Données'!C7/(PI()*('Données'!B7-0.64952*'Données'!C7))+1.155*0.12))^2))*(0.16*'Données'!C7+0.58*('Données'!B7-0.64952*'Données'!C7)*0.12+('Données'!D7+'Données'!E7)/4*0.12)/1000) | E9: =(((PI()/4*((('Données'!B7-0.64952*'Données'!C7)+('Données'!B7-1.22687*'Données'!C7))/2)^2)*0.9*(1100)/SQRT(1+3*(1.5*('Données'!B7-0.64952*'Données'!C7)/((('Données'!B7-0.64952*'Données'!C7)+('Données'!B7-1.22687*'Données'!C7))/2)*('Données'!C7/(PI()*('Données'!B7-0.64952*'Données'!C7))+1.155*0.12))^2))*(0.16*'Données'!C7+0.58*('Données'!B7-0.64952*'Données'!C7)*0.12+('Données'!D7+'Données'!E7)/4*0.12)/1000) | F9: =((PI()/4*((('Données'!B7-0.64952*'Données'!C7)+('Données'!B7-1.22687*'Données'!C7))/2)^2)*0.9*(IF('Données'!B7<=16,640,660))/SQRT(1+3*(1.5*('Données'!B7-0.64952*'Données'!C7)/((('Données'!B7-0.64952*'Données'!C7)+('Données'!B7-1.22687*'Données'!C7))/2)*('Données'!C7/(PI()*('Données'!B7-0.64952*'Données'!C7))+1.155*0.12))^2))/1000 | G9: =((PI()/4*((('Données'!B7-0.64952*'Données'!C7)+('Données'!B7-1.22687*'Données'!C7))/2)^2)*0.9*(940)/SQRT(1+3*(1.5*('Données'!B7-0.64952*'Données'!C7)/((('Données'!B7-0.64952*'Données'!C7)+('Données'!B7-1.22687*'Données'!C7))/2)*('Données'!C7/(PI()*('Données'!B7-0.64952*'Données'!C7))+1.155*0.12))^2))/1000 | H9: =((PI()/4*((('Données'!B7-0.64952*'Données'!C7)+('Données'!B7-1.22687*'Données'!C7))/2)^2)*0.9*(1100)/SQRT(1+3*(1.5*('Données'!B7-0.64952*'Données'!C7)/((('Données'!B7-0.64952*'Données'!C7)+('Données'!B7-1.22687*'Données'!C7))/2)*('Données'!C7/(PI()*('Données'!B7-0.64952*'Données'!C7))+1.155*0.12))^2))/1000
A10: ='Données'!A8 | B10: ='Données'!C8 | C10: =(((PI()/4*((('Données'!B8-0.64952*'Données'!C8)+('Données'!B8-1.22687*'Données'!C8))/2)^2)*0.9*(IF('Données'!B8<=16,640,660))/SQRT(1+3*(1.5*('Données'!B8-0.64952*'Données'!C8)/((('Données'!B8-0.64952*'Données'!C8)+('Données'!B8-1.22687*'Données'!C8))/2)*('Données'!C8/(PI()*('Données'!B8-0.64952*'Données'!C8))+1.155*0.12))^2))*(0.16*'Données'!C8+0.58*('Données'!B8-0.64952*'Données'!C8)*0.12+('Données'!D8+'Données'!E8)/4*0.12)/1000) | D10: =(((PI()/4*((('Données'!B8-0.64952*'Données'!C8)+('Données'!B8-1.22687*'Données'!C8))/2)^2)*0.9*(940)/SQRT(1+3*(1.5*('Données'!B8-0.64952*'Données'!C8)/((('Données'!B8-0.64952*'Données'!C8)+('Données'!B8-1.22687*'Données'!C8))/2)*('Données'!C8/(PI()*('Données'!B8-0.64952*'Données'!C8))+1.155*0.12))^2))*(0.16*'Données'!C8+0.58*('Données'!B8-0.64952*'Données'!C8)*0.12+('Données'!D8+'Données'!E8)/4*0.12)/1000) | E10: =(((PI()/4*((('Données'!B8-0.64952*'Données'!C8)+('Données'!B8-1.22687*'Données'!C8))/2)^2)*0.9*(1100)/SQRT(1+3*(1.5*('Données'!B8-0.64952*'Données'!C8)/((('Données'!B8-0.64952*'Données'!C8)+('Données'!B8-1.22687*'Données'!C8))/2)*('Données'!C8/(PI()*('Données'!B8-0.64952*'Données'!C8))+1.155*0.12))^2))*(0.16*'Données'!C8+0.58*('Données'!B8-0.64952*'Données'!C8)*0.12+('Données'!D8+'Données'!E8)/4*0.12)/1000) | F10: =((PI()/4*((('Données'!B8-0.64952*'Données'!C8)+('Données'!B8-1.22687*'Données'!C8))/2)^2)*0.9*(IF('Données'!B8<=16,640,660))/SQRT(1+3*(1.5*('Données'!B8-0.64952*'Données'!C8)/((('Données'!B8-0.64952*'Données'!C8)+('Données'!B8-1.22687*'Données'!C8))/2)*('Données'!C8/(PI()*('Données'!B8-0.64952*'Données'!C8))+1.155*0.12))^2))/1000 | G10: =((PI()/4*((('Données'!B8-0.64952*'Données'!C8)+('Données'!B8-1.22687*'Données'!C8))/2)^2)*0.9*(940)/SQRT(1+3*(1.5*('Données'!B8-0.64952*'Données'!C8)/((('Données'!B8-0.64952*'Données'!C8)+('Données'!B8-1.22687*'Données'!C8))/2)*('Données'!C8/(PI()*('Données'!B8-0.64952*'Données'!C8))+1.155*0.12))^2))/1000 | H10: =((PI()/4*((('Données'!B8-0.64952*'Données'!C8)+('Données'!B8-1.22687*'Données'!C8))/2)^2)*0.9*(1100)/SQRT(1+3*(1.5*('Données'!B8-0.64952*'Données'!C8)/((('Données'!B8-0.64952*'Données'!C8)+('Données'!B8-1.22687*'Données'!C8))/2)*('Données'!C8/(PI()*('Données'!B8-0.64952*'Données'!C8))+1.155*0.12))^2))/1000
A11: ='Données'!A9 | B11: ='Données'!C9 | C11: =(((PI()/4*((('Données'!B9-0.64952*'Données'!C9)+('Données'!B9-1.22687*'Données'!C9))/2)^2)*0.9*(IF('Données'!B9<=16,640,660))/SQRT(1+3*(1.5*('Données'!B9-0.64952*'Données'!C9)/((('Données'!B9-0.64952*'Données'!C9)+('Données'!B9-1.22687*'Données'!C9))/2)*('Données'!C9/(PI()*('Données'!B9-0.64952*'Données'!C9))+1.155*0.12))^2))*(0.16*'Données'!C9+0.58*('Données'!B9-0.64952*'Données'!C9)*0.12+('Données'!D9+'Données'!E9)/4*0.12)/1000) | D11: =(((PI()/4*((('Données'!B9-0.64952*'Données'!C9)+('Données'!B9-1.22687*'Données'!C9))/2)^2)*0.9*(940)/SQRT(1+3*(1.5*('Données'!B9-0.64952*'Données'!C9)/((('Données'!B9-0.64952*'Données'!C9)+('Données'!B9-1.22687*'Données'!C9))/2)*('Données'!C9/(PI()*('Données'!B9-0.64952*'Données'!C9))+1.155*0.12))^2))*(0.16*'Données'!C9+0.58*('Données'!B9-0.64952*'Données'!C9)*0.12+('Données'!D9+'Données'!E9)/4*0.12)/1000) | E11: =(((PI()/4*((('Données'!B9-0.64952*'Données'!C9)+('Données'!B9-1.22687*'Données'!C9))/2)^2)*0.9*(1100)/SQRT(1+3*(1.5*('Données'!B9-0.64952*'Données'!C9)/((('Données'!B9-0.64952*'Données'!C9)+('Données'!B9-1.22687*'Données'!C9))/2)*('Données'!C9/(PI()*('Données'!B9-0.64952*'Données'!C9))+1.155*0.12))^2))*(0.16*'Données'!C9+0.58*('Données'!B9-0.64952*'Données'!C9)*0.12+('Données'!D9+'Données'!E9)/4*0.12)/1000) | F11: =((PI()/4*((('Données'!B9-0.64952*'Données'!C9)+('Données'!B9-1.22687*'Données'!C9))/2)^2)*0.9*(IF('Données'!B9<=16,640,660))/SQRT(1+3*(1.5*('Données'!B9-0.64952*'Données'!C9)/((('Données'!B9-0.64952*'Données'!C9)+('Données'!B9-1.22687*'Données'!C9))/2)*('Données'!C9/(PI()*('Données'!B9-0.64952*'Données'!C9))+1.155*0.12))^2))/1000 | G11: =((PI()/4*((('Données'!B9-0.64952*'Données'!C9)+('Données'!B9-1.22687*'Données'!C9))/2)^2)*0.9*(940)/SQRT(1+3*(1.5*('Données'!B9-0.64952*'Données'!C9)/((('Données'!B9-0.64952*'Données'!C9)+('Données'!B9-1.22687*'Données'!C9))/2)*('Données'!C9/(PI()*('Données'!B9-0.64952*'Données'!C9))+1.155*0.12))^2))/1000 | H11: =((PI()/4*((('Données'!B9-0.64952*'Données'!C9)+('Données'!B9-1.22687*'Données'!C9))/2)^2)*0.9*(1100)/SQRT(1+3*(1.5*('Données'!B9-0.64952*'Données'!C9)/((('Données'!B9-0.64952*'Données'!C9)+('Données'!B9-1.22687*'Données'!C9))/2)*('Données'!C9/(PI()*('Données'!B9-0.64952*'Données'!C9))+1.155*0.12))^2))/1000
A12: ='Données'!A10 | B12: ='Données'!C10 | C12: =(((PI()/4*((('Données'!B10-0.64952*'Données'!C10)+('Données'!B10-1.22687*'Données'!C10))/2)^2)*0.9*(IF('Données'!B10<=16,640,660))/SQRT(1+3*(1.5*('Données'!B10-0.64952*'Données'!C10)/((('Données'!B10-0.64952*'Données'!C10)+('Données'!B10-1.22687*'Données'!C10))/2)*('Données'!C10/(PI()*('Données'!B10-0.64952*'Données'!C10))+1.155*0.12))^2))*(0.16*'Données'!C10+0.58*('Données'!B10-0.64952*'Données'!C10)*0.12+('Données'!D10+'Données'!E10)/4*0.12)/1000) | D12: =(((PI()/4*((('Données'!B10-0.64952*'Données'!C10)+('Données'!B10-1.22687*'Données'!C10))/2)^2)*0.9*(940)/SQRT(1+3*(1.5*('Données'!B10-0.64952*'Données'!C10)/((('Données'!B10-0.64952*'Données'!C10)+('Données'!B10-1.22687*'Données'!C10))/2)*('Données'!C10/(PI()*('Données'!B10-0.64952*'Données'!C10))+1.155*0.12))^2))*(0.16*'Données'!C10+0.58*('Données'!B10-0.64952*'Données'!C10)*0.12+('Données'!D10+'Données'!E10)/4*0.12)/1000) | E12: =(((PI()/4*((('Données'!B10-0.64952*'Données'!C10)+('Données'!B10-1.22687*'Données'!C10))/2)^2)*0.9*(1100)/SQRT(1+3*(1.5*('Données'!B10-0.64952*'Données'!C10)/((('Données'!B10-0.64952*'Données'!C10)+('Données'!B10-1.22687*'Données'!C10))/2)*('Données'!C10/(PI()*('Données'!B10-0.64952*'Données'!C10))+1.155*0.12))^2))*(0.16*'Données'!C10+0.58*('Données'!B10-0.64952*'Données'!C10)*0.12+('Données'!D10+'Données'!E10)/4*0.12)/1000) | F12: =((PI()/4*((('Données'!B10-0.64952*'Données'!C10)+('Données'!B10-1.22687*'Données'!C10))/2)^2)*0.9*(IF('Données'!B10<=16,640,660))/SQRT(1+3*(1.5*('Données'!B10-0.64952*'Données'!C10)/((('Données'!B10-0.64952*'Données'!C10)+('Données'!B10-1.22687*'Données'!C10))/2)*('Données'!C10/(PI()*('Données'!B10-0.64952*'Données'!C10))+1.155*0.12))^2))/1000 | G12: =((PI()/4*((('Données'!B10-0.64952*'Données'!C10)+('Données'!B10-1.22687*'Données'!C10))/2)^2)*0.9*(940)/SQRT(1+3*(1.5*('Données'!B10-0.64952*'Données'!C10)/((('Données'!B10-0.64952*'Données'!C10)+('Données'!B10-1.22687*'Données'!C10))/2)*('Données'!C10/(PI()*('Données'!B10-0.64952*'Données'!C10))+1.155*0.12))^2))/1000 | H12: =((PI()/4*((('Données'!B10-0.64952*'Données'!C10)+('Données'!B10-1.22687*'Données'!C10))/2)^2)*0.9*(1100)/SQRT(1+3*(1.5*('Données'!B10-0.64952*'Données'!C10)/((('Données'!B10-0.64952*'Données'!C10)+('Données'!B10-1.22687*'Données'!C10))/2)*('Données'!C10/(PI()*('Données'!B10-0.64952*'Données'!C10))+1.155*0.12))^2))/1000
A13: ='Données'!A11 | B13: ='Données'!C11 | C13: =(((PI()/4*((('Données'!B11-0.64952*'Données'!C11)+('Données'!B11-1.22687*'Données'!C11))/2)^2)*0.9*(IF('Données'!B11<=16,640,660))/SQRT(1+3*(1.5*('Données'!B11-0.64952*'Données'!C11)/((('Données'!B11-0.64952*'Données'!C11)+('Données'!B11-1.22687*'Données'!C11))/2)*('Données'!C11/(PI()*('Données'!B11-0.64952*'Données'!C11))+1.155*0.12))^2))*(0.16*'Données'!C11+0.58*('Données'!B11-0.64952*'Données'!C11)*0.12+('Données'!D11+'Données'!E11)/4*0.12)/1000) | D13: =(((PI()/4*((('Données'!B11-0.64952*'Données'!C11)+('Données'!B11-1.22687*'Données'!C11))/2)^2)*0.9*(940)/SQRT(1+3*(1.5*('Données'!B11-0.64952*'Données'!C11)/((('Données'!B11-0.64952*'Données'!C11)+('Données'!B11-1.22687*'Données'!C11))/2)*('Données'!C11/(PI()*('Données'!B11-0.64952*'Données'!C11))+1.155*0.12))^2))*(0.16*'Données'!C11+0.58*('Données'!B11-0.64952*'Données'!C11)*0.12+('Données'!D11+'Données'!E11)/4*0.12)/1000) | E13: =(((PI()/4*((('Données'!B11-0.64952*'Données'!C11)+('Données'!B11-1.22687*'Données'!C11))/2)^2)*0.9*(1100)/SQRT(1+3*(1.5*('Données'!B11-0.64952*'Données'!C11)/((('Données'!B11-0.64952*'Données'!C11)+('Données'!B11-1.22687*'Données'!C11))/2)*('Données'!C11/(PI()*('Données'!B11-0.64952*'Données'!C11))+1.155*0.12))^2))*(0.16*'Données'!C11+0.58*('Données'!B11-0.64952*'Données'!C11)*0.12+('Données'!D11+'Données'!E11)/4*0.12)/1000) | F13: =((PI()/4*((('Données'!B11-0.64952*'Données'!C11)+('Données'!B11-1.22687*'Données'!C11))/2)^2)*0.9*(IF('Données'!B11<=16,640,660))/SQRT(1+3*(1.5*('Données'!B11-0.64952*'Données'!C11)/((('Données'!B11-0.64952*'Données'!C11)+('Données'!B11-1.22687*'Données'!C11))/2)*('Données'!C11/(PI()*('Données'!B11-0.64952*'Données'!C11))+1.155*0.12))^2))/1000 | G13: =((PI()/4*((('Données'!B11-0.64952*'Données'!C11)+('Données'!B11-1.22687*'Données'!C11))/2)^2)*0.9*(940)/SQRT(1+3*(1.5*('Données'!B11-0.64952*'Données'!C11)/((('Données'!B11-0.64952*'Données'!C11)+('Données'!B11-1.22687*'Données'!C11))/2)*('Données'!C11/(PI()*('Données'!B11-0.64952*'Données'!C11))+1.155*0.12))^2))/1000 | H13: =((PI()/4*((('Données'!B11-0.64952*'Données'!C11)+('Données'!B11-1.22687*'Données'!C11))/2)^2)*0.9*(1100)/SQRT(1+3*(1.5*('Données'!B11-0.64952*'Données'!C11)/((('Données'!B11-0.64952*'Données'!C11)+('Données'!B11-1.22687*'Données'!C11))/2)*('Données'!C11/(PI()*('Données'!B11-0.64952*'Données'!C11))+1.155*0.12))^2))/1000
A14: ='Données'!A12 | B14: ='Données'!C12 | C14: =(((PI()/4*((('Données'!B12-0.64952*'Données'!C12)+('Données'!B12-1.22687*'Données'!C12))/2)^2)*0.9*(IF('Données'!B12<=16,640,660))/SQRT(1+3*(1.5*('Données'!B12-0.64952*'Données'!C12)/((('Données'!B12-0.64952*'Données'!C12)+('Données'!B12-1.22687*'Données'!C12))/2)*('Données'!C12/(PI()*('Données'!B12-0.64952*'Données'!C12))+1.155*0.12))^2))*(0.16*'Données'!C12+0.58*('Données'!B12-0.64952*'Données'!C12)*0.12+('Données'!D12+'Données'!E12)/4*0.12)/1000) | D14: =(((PI()/4*((('Données'!B12-0.64952*'Données'!C12)+('Données'!B12-1.22687*'Données'!C12))/2)^2)*0.9*(940)/SQRT(1+3*(1.5*('Données'!B12-0.64952*'Données'!C12)/((('Données'!B12-0.64952*'Données'!C12)+('Données'!B12-1.22687*'Données'!C12))/2)*('Données'!C12/(PI()*('Données'!B12-0.64952*'Données'!C12))+1.155*0.12))^2))*(0.16*'Données'!C12+0.58*('Données'!B12-0.64952*'Données'!C12)*0.12+('Données'!D12+'Données'!E12)/4*0.12)/1000) | E14: =(((PI()/4*((('Données'!B12-0.64952*'Données'!C12)+('Données'!B12-1.22687*'Données'!C12))/2)^2)*0.9*(1100)/SQRT(1+3*(1.5*('Données'!B12-0.64952*'Données'!C12)/((('Données'!B12-0.64952*'Données'!C12)+('Données'!B12-1.22687*'Données'!C12))/2)*('Données'!C12/(PI()*('Données'!B12-0.64952*'Données'!C12))+1.155*0.12))^2))*(0.16*'Données'!C12+0.58*('Données'!B12-0.64952*'Données'!C12)*0.12+('Données'!D12+'Données'!E12)/4*0.12)/1000) | F14: =((PI()/4*((('Données'!B12-0.64952*'Données'!C12)+('Données'!B12-1.22687*'Données'!C12))/2)^2)*0.9*(IF('Données'!B12<=16,640,660))/SQRT(1+3*(1.5*('Données'!B12-0.64952*'Données'!C12)/((('Données'!B12-0.64952*'Données'!C12)+('Données'!B12-1.22687*'Données'!C12))/2)*('Données'!C12/(PI()*('Données'!B12-0.64952*'Données'!C12))+1.155*0.12))^2))/1000 | G14: =((PI()/4*((('Données'!B12-0.64952*'Données'!C12)+('Données'!B12-1.22687*'Données'!C12))/2)^2)*0.9*(940)/SQRT(1+3*(1.5*('Données'!B12-0.64952*'Données'!C12)/((('Données'!B12-0.64952*'Données'!C12)+('Données'!B12-1.22687*'Données'!C12))/2)*('Données'!C12/(PI()*('Données'!B12-0.64952*'Données'!C12))+1.155*0.12))^2))/1000 | H14: =((PI()/4*((('Données'!B12-0.64952*'Données'!C12)+('Données'!B12-1.22687*'Données'!C12))/2)^2)*0.9*(1100)/SQRT(1+3*(1.5*('Données'!B12-0.64952*'Données'!C12)/((('Données'!B12-0.64952*'Données'!C12)+('Données'!B12-1.22687*'Données'!C12))/2)*('Données'!C12/(PI()*('Données'!B12-0.64952*'Données'!C12))+1.155*0.12))^2))/1000
A15: ='Données'!A13 | B15: ='Données'!C13 | C15: =(((PI()/4*((('Données'!B13-0.64952*'Données'!C13)+('Données'!B13-1.22687*'Données'!C13))/2)^2)*0.9*(IF('Données'!B13<=16,640,660))/SQRT(1+3*(1.5*('Données'!B13-0.64952*'Données'!C13)/((('Données'!B13-0.64952*'Données'!C13)+('Données'!B13-1.22687*'Données'!C13))/2)*('Données'!C13/(PI()*('Données'!B13-0.64952*'Données'!C13))+1.155*0.12))^2))*(0.16*'Données'!C13+0.58*('Données'!B13-0.64952*'Données'!C13)*0.12+('Données'!D13+'Données'!E13)/4*0.12)/1000) | D15: =(((PI()/4*((('Données'!B13-0.64952*'Données'!C13)+('Données'!B13-1.22687*'Données'!C13))/2)^2)*0.9*(940)/SQRT(1+3*(1.5*('Données'!B13-0.64952*'Données'!C13)/((('Données'!B13-0.64952*'Données'!C13)+('Données'!B13-1.22687*'Données'!C13))/2)*('Données'!C13/(PI()*('Données'!B13-0.64952*'Données'!C13))+1.155*0.12))^2))*(0.16*'Données'!C13+0.58*('Données'!B13-0.64952*'Données'!C13)*0.12+('Données'!D13+'Données'!E13)/4*0.12)/1000) | E15: =(((PI()/4*((('Données'!B13-0.64952*'Données'!C13)+('Données'!B13-1.22687*'Données'!C13))/2)^2)*0.9*(1100)/SQRT(1+3*(1.5*('Données'!B13-0.64952*'Données'!C13)/((('Données'!B13-0.64952*'Données'!C13)+('Données'!B13-1.22687*'Données'!C13))/2)*('Données'!C13/(PI()*('Données'!B13-0.64952*'Données'!C13))+1.155*0.12))^2))*(0.16*'Données'!C13+0.58*('Données'!B13-0.64952*'Données'!C13)*0.12+('Données'!D13+'Données'!E13)/4*0.12)/1000) | F15: =((PI()/4*((('Données'!B13-0.64952*'Données'!C13)+('Données'!B13-1.22687*'Données'!C13))/2)^2)*0.9*(IF('Données'!B13<=16,640,660))/SQRT(1+3*(1.5*('Données'!B13-0.64952*'Données'!C13)/((('Données'!B13-0.64952*'Données'!C13)+('Données'!B13-1.22687*'Données'!C13))/2)*('Données'!C13/(PI()*('Données'!B13-0.64952*'Données'!C13))+1.155*0.12))^2))/1000 | G15: =((PI()/4*((('Données'!B13-0.64952*'Données'!C13)+('Données'!B13-1.22687*'Données'!C13))/2)^2)*0.9*(940)/SQRT(1+3*(1.5*('Données'!B13-0.64952*'Données'!C13)/((('Données'!B13-0.64952*'Données'!C13)+('Données'!B13-1.22687*'Données'!C13))/2)*('Données'!C13/(PI()*('Données'!B13-0.64952*'Données'!C13))+1.155*0.12))^2))/1000 | H15: =((PI()/4*((('Données'!B13-0.64952*'Données'!C13)+('Données'!B13-1.22687*'Données'!C13))/2)^2)*0.9*(1100)/SQRT(1+3*(1.5*('Données'!B13-0.64952*'Données'!C13)/((('Données'!B13-0.64952*'Données'!C13)+('Données'!B13-1.22687*'Données'!C13))/2)*('Données'!C13/(PI()*('Données'!B13-0.64952*'Données'!C13))+1.155*0.12))^2))/1000
... A17: ='Données'!A15 | B17: ='Données'!C15 | C17: =(((PI()/4*((('Données'!B15-0.64952*'Données'!C15)+('Données'!B15-1.22687*'Données'!C15))/2)^2)*0.9*(IF('Données'!B15<=16,640,660))/SQRT(1+3*(1.5*('Données'!B15-0.64952*'Données'!C15)/((('Données'!B15-0.64952*'Données'!C15)+('Données'!B15-1.22687*'Données'!C15))/2)*('Données'!C15/(PI()*('Données'!B15-0.64952*'Données'!C15))+1.155*0.12))^2))*(0.16*'Données'!C15+0.58*('Données'!B15-0.64952*'Données'!C15)*0.12+('Données'!D15+'Données'!E15)/4*0.12)/1000) | D17: =(((PI()/4*((('Données'!B15-0.64952*'Données'!C15)+('Données'!B15-1.22687*'Données'!C15))/2)^2)*0.9*(940)/SQRT(1+3*(1.5*('Données'!B15-0.64952*'Données'!C15)/((('Données'!B15-0.64952*'Données'!C15)+('Données'!B15-1.22687*'Données'!C15))/2)*('Données'!C15/(PI()*('Données'!B15-0.64952*'Données'!C15))+1.155*0.12))^2))*(0.16*'Données'!C15+0.58*('Données'!B15-0.64952*'Données'!C15)*0.12+('Données'!D15+'Données'!E15)/4*0.12)/1000) | E17: =(((PI()/4*((('Données'!B15-0.64952*'Données'!C15)+('Données'!B15-1.22687*'Données'!C15))/2)^2)*0.9*(1100)/SQRT(1+3*(1.5*('Données'!B15-0.64952*'Données'!C15)/((('Données'!B15-0.64952*'Données'!C15)+('Données'!B15-1.22687*'Données'!C15))/2)*('Données'!C15/(PI()*('Données'!B15-0.64952*'Données'!C15))+1.155*0.12))^2))*(0.16*'Données'!C15+0.58*('Données'!B15-0.64952*'Données'!C15)*0.12+('Données'!D15+'Données'!E15)/4*0.12)/1000) | F17: =((PI()/4*((('Données'!B15-0.64952*'Données'!C15)+('Données'!B15-1.22687*'Données'!C15))/2)^2)*0.9*(IF('Données'!B15<=16,640,660))/SQRT(1+3*(1.5*('Données'!B15-0.64952*'Données'!C15)/((('Données'!B15-0.64952*'Données'!C15)+('Données'!B15-1.22687*'Données'!C15))/2)*('Données'!C15/(PI()*('Données'!B15-0.64952*'Données'!C15))+1.155*0.12))^2))/1000 | G17: =((PI()/4*((('Données'!B15-0.64952*'Données'!C15)+('Données'!B15-1.22687*'Données'!C15))/2)^2)*0.9*(940)/SQRT(1+3*(1.5*('Données'!B15-0.64952*'Données'!C15)/((('Données'!B15-0.64952*'Données'!C15)+('Données'!B15-1.22687*'Données'!C15))/2)*('Données'!C15/(PI()*('Données'!B15-0.64952*'Données'!C15))+1.155*0.12))^2))/1000 | H17: =((PI()/4*((('Données'!B15-0.64952*'Données'!C15)+('Données'!B15-1.22687*'Données'!C15))/2)^2)*0.9*(1100)/SQRT(1+3*(1.5*('Données'!B15-0.64952*'Données'!C15)/((('Données'!B15-0.64952*'Données'!C15)+('Données'!B15-1.22687*'Données'!C15))/2)*('Données'!C15/(PI()*('Données'!B15-0.64952*'Données'!C15))+1.155*0.12))^2))/1000
