Workbook

Sheet Calculator
A1: Bolt tightening torque calculator (VDI 2230, ISO 898-1)
A2: Pick the bolt, the property class and the friction in the yellow cells.
A4: Bolt (ISO metric coarse thread) | B4: M10
A5: Property class | B5: 8.8
A6: Friction coefficient µ (head and thread) | B6: 0.12
A8: Results
A9: Tightening torque | B9: =(((PI()/4*(((B14-0.64952*B15)+(B14-1.22687*B15))/2)^2)*0.9*B18/SQRT(1+3*(1.5*(B14-0.64952*B15)/(((B14-0.64952*B15)+(B14-1.22687*B15))/2)*(B15/(PI()*(B14-0.64952*B15))+1.155*$B$6))^2))*(0.16*B15+0.58*(B14-0.64952*B15)*$B$6+(B16+B17)/4*$B$6)/1000) | C9: N·m
A10: Assembly preload | B10: =((PI()/4*(((B14-0.64952*B15)+(B14-1.22687*B15))/2)^2)*0.9*B18/SQRT(1+3*(1.5*(B14-0.64952*B15)/(((B14-0.64952*B15)+(B14-1.22687*B15))/2)*(B15/(PI()*(B14-0.64952*B15))+1.155*$B$6))^2))/1000 | C10: kN
A13: Intermediate values
A14: d (mm) | B14: =VLOOKUP($B$4,'Data'!$A$2:$E$15,2,FALSE)
A15: Pitch P (mm) | B15: =VLOOKUP($B$4,'Data'!$A$2:$E$15,3,FALSE)
A16: Head bearing diameter dw (mm) | B16: =VLOOKUP($B$4,'Data'!$A$2:$E$15,4,FALSE)
A17: Clearance hole dh (mm) | B17: =VLOOKUP($B$4,'Data'!$A$2:$E$15,5,FALSE)
A18: Minimum yield strength Rp0.2 (MPa) | B18: =IF($B$5="8.8",IF(B14<=16,640,660),IF($B$5="10.9",940,1100))
A19: Pitch diameter d2 (mm) | B19: =(B14-0.64952*B15)
A20: Minor diameter d3 (mm) | B20: =(B14-1.22687*B15)
A21: Stress area As (mm²) | B21: =(PI()/4*(((B14-0.64952*B15)+(B14-1.22687*B15))/2)^2)
A23: Assumptions: simplified VDI 2230 method, 90% utilisation of the yield strength (ν = 0.9), same friction under the head and in the thread, minimum yield strengths from ISO 898-1 (640 MPa for 8.8 up to M16, 660 MPa above; 940 MPa for 10.9; 1,100 MPa for 12.9). µ = 0.12 corresponds to oiled steel fasteners. For a critical joint, use the measured coefficient or the manufacturer's value.
A24: Source and explanations: https://www.baouch.fr/en/blog/couple-serrage-vis-tableau/

Sheet Data
A1: M | B1: d (mm) | C1: Pitch P (mm) | D1: Head bearing diameter dw (mm) | E1: Clearance hole dh (mm)
A2: M3 | B2: 3 | C2: 0.5 | D2: 4.6 | E2: 3.4
A3: M4 | B3: 4 | C3: 0.7 | D3: 5.9 | E3: 4.5
A4: M5 | B4: 5 | C4: 0.8 | D4: 6.9 | E4: 5.5
A5: M6 | B5: 6 | C5: 1 | D5: 8.9 | E5: 6.6
A6: M8 | B6: 8 | C6: 1.25 | D6: 11.6 | E6: 9
A7: M10 | B7: 10 | C7: 1.5 | D7: 14.6 | E7: 11
A8: M12 | B8: 12 | C8: 1.75 | D8: 16.6 | E8: 13.5
A9: M14 | B9: 14 | C9: 2 | D9: 19.6 | E9: 15.5
A10: M16 | B10: 16 | C10: 2 | D10: 22.5 | E10: 17.5
A11: M20 | B11: 20 | C11: 2.5 | D11: 28.2 | E11: 22
A12: M24 | B12: 24 | C12: 3 | D12: 33.6 | E12: 26
A13: M27 | B13: 27 | C13: 3 | D13: 38 | E13: 30
... A15: M36 | B15: 36 | C15: 4 | D15: 51.1 | E15: 39
A17: µ | B17: 0.08 | C17: 0.1 | D17: 0.12 | E17: 0.14 | F17: 0.16 | G17: 0.2
A18: Property class | B18: 8.8 | C18: 10.9 | D18: 12.9

Sheet Chart µ 0.12
A1: Tightening torques (N·m) and preloads (kN), µ = 0.12
A3: Bolt | B3: Pitch | C3: 8.8 N·m | D3: 10.9 N·m | E3: 12.9 N·m | F3: 8.8 kN | G3: 10.9 kN | H3: 12.9 kN
A4: ='Data'!A2 | B4: ='Data'!C2 | C4: =(((PI()/4*((('Data'!B2-0.64952*'Data'!C2)+('Data'!B2-1.22687*'Data'!C2))/2)^2)*0.9*(IF('Data'!B2<=16,640,660))/SQRT(1+3*(1.5*('Data'!B2-0.64952*'Data'!C2)/((('Data'!B2-0.64952*'Data'!C2)+('Data'!B2-1.22687*'Data'!C2))/2)*('Data'!C2/(PI()*('Data'!B2-0.64952*'Data'!C2))+1.155*0.12))^2))*(0.16*'Data'!C2+0.58*('Data'!B2-0.64952*'Data'!C2)*0.12+('Data'!D2+'Data'!E2)/4*0.12)/1000) | D4: =(((PI()/4*((('Data'!B2-0.64952*'Data'!C2)+('Data'!B2-1.22687*'Data'!C2))/2)^2)*0.9*(940)/SQRT(1+3*(1.5*('Data'!B2-0.64952*'Data'!C2)/((('Data'!B2-0.64952*'Data'!C2)+('Data'!B2-1.22687*'Data'!C2))/2)*('Data'!C2/(PI()*('Data'!B2-0.64952*'Data'!C2))+1.155*0.12))^2))*(0.16*'Data'!C2+0.58*('Data'!B2-0.64952*'Data'!C2)*0.12+('Data'!D2+'Data'!E2)/4*0.12)/1000) | E4: =(((PI()/4*((('Data'!B2-0.64952*'Data'!C2)+('Data'!B2-1.22687*'Data'!C2))/2)^2)*0.9*(1100)/SQRT(1+3*(1.5*('Data'!B2-0.64952*'Data'!C2)/((('Data'!B2-0.64952*'Data'!C2)+('Data'!B2-1.22687*'Data'!C2))/2)*('Data'!C2/(PI()*('Data'!B2-0.64952*'Data'!C2))+1.155*0.12))^2))*(0.16*'Data'!C2+0.58*('Data'!B2-0.64952*'Data'!C2)*0.12+('Data'!D2+'Data'!E2)/4*0.12)/1000) | F4: =((PI()/4*((('Data'!B2-0.64952*'Data'!C2)+('Data'!B2-1.22687*'Data'!C2))/2)^2)*0.9*(IF('Data'!B2<=16,640,660))/SQRT(1+3*(1.5*('Data'!B2-0.64952*'Data'!C2)/((('Data'!B2-0.64952*'Data'!C2)+('Data'!B2-1.22687*'Data'!C2))/2)*('Data'!C2/(PI()*('Data'!B2-0.64952*'Data'!C2))+1.155*0.12))^2))/1000 | G4: =((PI()/4*((('Data'!B2-0.64952*'Data'!C2)+('Data'!B2-1.22687*'Data'!C2))/2)^2)*0.9*(940)/SQRT(1+3*(1.5*('Data'!B2-0.64952*'Data'!C2)/((('Data'!B2-0.64952*'Data'!C2)+('Data'!B2-1.22687*'Data'!C2))/2)*('Data'!C2/(PI()*('Data'!B2-0.64952*'Data'!C2))+1.155*0.12))^2))/1000 | H4: =((PI()/4*((('Data'!B2-0.64952*'Data'!C2)+('Data'!B2-1.22687*'Data'!C2))/2)^2)*0.9*(1100)/SQRT(1+3*(1.5*('Data'!B2-0.64952*'Data'!C2)/((('Data'!B2-0.64952*'Data'!C2)+('Data'!B2-1.22687*'Data'!C2))/2)*('Data'!C2/(PI()*('Data'!B2-0.64952*'Data'!C2))+1.155*0.12))^2))/1000
A5: ='Data'!A3 | B5: ='Data'!C3 | C5: =(((PI()/4*((('Data'!B3-0.64952*'Data'!C3)+('Data'!B3-1.22687*'Data'!C3))/2)^2)*0.9*(IF('Data'!B3<=16,640,660))/SQRT(1+3*(1.5*('Data'!B3-0.64952*'Data'!C3)/((('Data'!B3-0.64952*'Data'!C3)+('Data'!B3-1.22687*'Data'!C3))/2)*('Data'!C3/(PI()*('Data'!B3-0.64952*'Data'!C3))+1.155*0.12))^2))*(0.16*'Data'!C3+0.58*('Data'!B3-0.64952*'Data'!C3)*0.12+('Data'!D3+'Data'!E3)/4*0.12)/1000) | D5: =(((PI()/4*((('Data'!B3-0.64952*'Data'!C3)+('Data'!B3-1.22687*'Data'!C3))/2)^2)*0.9*(940)/SQRT(1+3*(1.5*('Data'!B3-0.64952*'Data'!C3)/((('Data'!B3-0.64952*'Data'!C3)+('Data'!B3-1.22687*'Data'!C3))/2)*('Data'!C3/(PI()*('Data'!B3-0.64952*'Data'!C3))+1.155*0.12))^2))*(0.16*'Data'!C3+0.58*('Data'!B3-0.64952*'Data'!C3)*0.12+('Data'!D3+'Data'!E3)/4*0.12)/1000) | E5: =(((PI()/4*((('Data'!B3-0.64952*'Data'!C3)+('Data'!B3-1.22687*'Data'!C3))/2)^2)*0.9*(1100)/SQRT(1+3*(1.5*('Data'!B3-0.64952*'Data'!C3)/((('Data'!B3-0.64952*'Data'!C3)+('Data'!B3-1.22687*'Data'!C3))/2)*('Data'!C3/(PI()*('Data'!B3-0.64952*'Data'!C3))+1.155*0.12))^2))*(0.16*'Data'!C3+0.58*('Data'!B3-0.64952*'Data'!C3)*0.12+('Data'!D3+'Data'!E3)/4*0.12)/1000) | F5: =((PI()/4*((('Data'!B3-0.64952*'Data'!C3)+('Data'!B3-1.22687*'Data'!C3))/2)^2)*0.9*(IF('Data'!B3<=16,640,660))/SQRT(1+3*(1.5*('Data'!B3-0.64952*'Data'!C3)/((('Data'!B3-0.64952*'Data'!C3)+('Data'!B3-1.22687*'Data'!C3))/2)*('Data'!C3/(PI()*('Data'!B3-0.64952*'Data'!C3))+1.155*0.12))^2))/1000 | G5: =((PI()/4*((('Data'!B3-0.64952*'Data'!C3)+('Data'!B3-1.22687*'Data'!C3))/2)^2)*0.9*(940)/SQRT(1+3*(1.5*('Data'!B3-0.64952*'Data'!C3)/((('Data'!B3-0.64952*'Data'!C3)+('Data'!B3-1.22687*'Data'!C3))/2)*('Data'!C3/(PI()*('Data'!B3-0.64952*'Data'!C3))+1.155*0.12))^2))/1000 | H5: =((PI()/4*((('Data'!B3-0.64952*'Data'!C3)+('Data'!B3-1.22687*'Data'!C3))/2)^2)*0.9*(1100)/SQRT(1+3*(1.5*('Data'!B3-0.64952*'Data'!C3)/((('Data'!B3-0.64952*'Data'!C3)+('Data'!B3-1.22687*'Data'!C3))/2)*('Data'!C3/(PI()*('Data'!B3-0.64952*'Data'!C3))+1.155*0.12))^2))/1000
A6: ='Data'!A4 | B6: ='Data'!C4 | C6: =(((PI()/4*((('Data'!B4-0.64952*'Data'!C4)+('Data'!B4-1.22687*'Data'!C4))/2)^2)*0.9*(IF('Data'!B4<=16,640,660))/SQRT(1+3*(1.5*('Data'!B4-0.64952*'Data'!C4)/((('Data'!B4-0.64952*'Data'!C4)+('Data'!B4-1.22687*'Data'!C4))/2)*('Data'!C4/(PI()*('Data'!B4-0.64952*'Data'!C4))+1.155*0.12))^2))*(0.16*'Data'!C4+0.58*('Data'!B4-0.64952*'Data'!C4)*0.12+('Data'!D4+'Data'!E4)/4*0.12)/1000) | D6: =(((PI()/4*((('Data'!B4-0.64952*'Data'!C4)+('Data'!B4-1.22687*'Data'!C4))/2)^2)*0.9*(940)/SQRT(1+3*(1.5*('Data'!B4-0.64952*'Data'!C4)/((('Data'!B4-0.64952*'Data'!C4)+('Data'!B4-1.22687*'Data'!C4))/2)*('Data'!C4/(PI()*('Data'!B4-0.64952*'Data'!C4))+1.155*0.12))^2))*(0.16*'Data'!C4+0.58*('Data'!B4-0.64952*'Data'!C4)*0.12+('Data'!D4+'Data'!E4)/4*0.12)/1000) | E6: =(((PI()/4*((('Data'!B4-0.64952*'Data'!C4)+('Data'!B4-1.22687*'Data'!C4))/2)^2)*0.9*(1100)/SQRT(1+3*(1.5*('Data'!B4-0.64952*'Data'!C4)/((('Data'!B4-0.64952*'Data'!C4)+('Data'!B4-1.22687*'Data'!C4))/2)*('Data'!C4/(PI()*('Data'!B4-0.64952*'Data'!C4))+1.155*0.12))^2))*(0.16*'Data'!C4+0.58*('Data'!B4-0.64952*'Data'!C4)*0.12+('Data'!D4+'Data'!E4)/4*0.12)/1000) | F6: =((PI()/4*((('Data'!B4-0.64952*'Data'!C4)+('Data'!B4-1.22687*'Data'!C4))/2)^2)*0.9*(IF('Data'!B4<=16,640,660))/SQRT(1+3*(1.5*('Data'!B4-0.64952*'Data'!C4)/((('Data'!B4-0.64952*'Data'!C4)+('Data'!B4-1.22687*'Data'!C4))/2)*('Data'!C4/(PI()*('Data'!B4-0.64952*'Data'!C4))+1.155*0.12))^2))/1000 | G6: =((PI()/4*((('Data'!B4-0.64952*'Data'!C4)+('Data'!B4-1.22687*'Data'!C4))/2)^2)*0.9*(940)/SQRT(1+3*(1.5*('Data'!B4-0.64952*'Data'!C4)/((('Data'!B4-0.64952*'Data'!C4)+('Data'!B4-1.22687*'Data'!C4))/2)*('Data'!C4/(PI()*('Data'!B4-0.64952*'Data'!C4))+1.155*0.12))^2))/1000 | H6: =((PI()/4*((('Data'!B4-0.64952*'Data'!C4)+('Data'!B4-1.22687*'Data'!C4))/2)^2)*0.9*(1100)/SQRT(1+3*(1.5*('Data'!B4-0.64952*'Data'!C4)/((('Data'!B4-0.64952*'Data'!C4)+('Data'!B4-1.22687*'Data'!C4))/2)*('Data'!C4/(PI()*('Data'!B4-0.64952*'Data'!C4))+1.155*0.12))^2))/1000
A7: ='Data'!A5 | B7: ='Data'!C5 | C7: =(((PI()/4*((('Data'!B5-0.64952*'Data'!C5)+('Data'!B5-1.22687*'Data'!C5))/2)^2)*0.9*(IF('Data'!B5<=16,640,660))/SQRT(1+3*(1.5*('Data'!B5-0.64952*'Data'!C5)/((('Data'!B5-0.64952*'Data'!C5)+('Data'!B5-1.22687*'Data'!C5))/2)*('Data'!C5/(PI()*('Data'!B5-0.64952*'Data'!C5))+1.155*0.12))^2))*(0.16*'Data'!C5+0.58*('Data'!B5-0.64952*'Data'!C5)*0.12+('Data'!D5+'Data'!E5)/4*0.12)/1000) | D7: =(((PI()/4*((('Data'!B5-0.64952*'Data'!C5)+('Data'!B5-1.22687*'Data'!C5))/2)^2)*0.9*(940)/SQRT(1+3*(1.5*('Data'!B5-0.64952*'Data'!C5)/((('Data'!B5-0.64952*'Data'!C5)+('Data'!B5-1.22687*'Data'!C5))/2)*('Data'!C5/(PI()*('Data'!B5-0.64952*'Data'!C5))+1.155*0.12))^2))*(0.16*'Data'!C5+0.58*('Data'!B5-0.64952*'Data'!C5)*0.12+('Data'!D5+'Data'!E5)/4*0.12)/1000) | E7: =(((PI()/4*((('Data'!B5-0.64952*'Data'!C5)+('Data'!B5-1.22687*'Data'!C5))/2)^2)*0.9*(1100)/SQRT(1+3*(1.5*('Data'!B5-0.64952*'Data'!C5)/((('Data'!B5-0.64952*'Data'!C5)+('Data'!B5-1.22687*'Data'!C5))/2)*('Data'!C5/(PI()*('Data'!B5-0.64952*'Data'!C5))+1.155*0.12))^2))*(0.16*'Data'!C5+0.58*('Data'!B5-0.64952*'Data'!C5)*0.12+('Data'!D5+'Data'!E5)/4*0.12)/1000) | F7: =((PI()/4*((('Data'!B5-0.64952*'Data'!C5)+('Data'!B5-1.22687*'Data'!C5))/2)^2)*0.9*(IF('Data'!B5<=16,640,660))/SQRT(1+3*(1.5*('Data'!B5-0.64952*'Data'!C5)/((('Data'!B5-0.64952*'Data'!C5)+('Data'!B5-1.22687*'Data'!C5))/2)*('Data'!C5/(PI()*('Data'!B5-0.64952*'Data'!C5))+1.155*0.12))^2))/1000 | G7: =((PI()/4*((('Data'!B5-0.64952*'Data'!C5)+('Data'!B5-1.22687*'Data'!C5))/2)^2)*0.9*(940)/SQRT(1+3*(1.5*('Data'!B5-0.64952*'Data'!C5)/((('Data'!B5-0.64952*'Data'!C5)+('Data'!B5-1.22687*'Data'!C5))/2)*('Data'!C5/(PI()*('Data'!B5-0.64952*'Data'!C5))+1.155*0.12))^2))/1000 | H7: =((PI()/4*((('Data'!B5-0.64952*'Data'!C5)+('Data'!B5-1.22687*'Data'!C5))/2)^2)*0.9*(1100)/SQRT(1+3*(1.5*('Data'!B5-0.64952*'Data'!C5)/((('Data'!B5-0.64952*'Data'!C5)+('Data'!B5-1.22687*'Data'!C5))/2)*('Data'!C5/(PI()*('Data'!B5-0.64952*'Data'!C5))+1.155*0.12))^2))/1000
A8: ='Data'!A6 | B8: ='Data'!C6 | C8: =(((PI()/4*((('Data'!B6-0.64952*'Data'!C6)+('Data'!B6-1.22687*'Data'!C6))/2)^2)*0.9*(IF('Data'!B6<=16,640,660))/SQRT(1+3*(1.5*('Data'!B6-0.64952*'Data'!C6)/((('Data'!B6-0.64952*'Data'!C6)+('Data'!B6-1.22687*'Data'!C6))/2)*('Data'!C6/(PI()*('Data'!B6-0.64952*'Data'!C6))+1.155*0.12))^2))*(0.16*'Data'!C6+0.58*('Data'!B6-0.64952*'Data'!C6)*0.12+('Data'!D6+'Data'!E6)/4*0.12)/1000) | D8: =(((PI()/4*((('Data'!B6-0.64952*'Data'!C6)+('Data'!B6-1.22687*'Data'!C6))/2)^2)*0.9*(940)/SQRT(1+3*(1.5*('Data'!B6-0.64952*'Data'!C6)/((('Data'!B6-0.64952*'Data'!C6)+('Data'!B6-1.22687*'Data'!C6))/2)*('Data'!C6/(PI()*('Data'!B6-0.64952*'Data'!C6))+1.155*0.12))^2))*(0.16*'Data'!C6+0.58*('Data'!B6-0.64952*'Data'!C6)*0.12+('Data'!D6+'Data'!E6)/4*0.12)/1000) | E8: =(((PI()/4*((('Data'!B6-0.64952*'Data'!C6)+('Data'!B6-1.22687*'Data'!C6))/2)^2)*0.9*(1100)/SQRT(1+3*(1.5*('Data'!B6-0.64952*'Data'!C6)/((('Data'!B6-0.64952*'Data'!C6)+('Data'!B6-1.22687*'Data'!C6))/2)*('Data'!C6/(PI()*('Data'!B6-0.64952*'Data'!C6))+1.155*0.12))^2))*(0.16*'Data'!C6+0.58*('Data'!B6-0.64952*'Data'!C6)*0.12+('Data'!D6+'Data'!E6)/4*0.12)/1000) | F8: =((PI()/4*((('Data'!B6-0.64952*'Data'!C6)+('Data'!B6-1.22687*'Data'!C6))/2)^2)*0.9*(IF('Data'!B6<=16,640,660))/SQRT(1+3*(1.5*('Data'!B6-0.64952*'Data'!C6)/((('Data'!B6-0.64952*'Data'!C6)+('Data'!B6-1.22687*'Data'!C6))/2)*('Data'!C6/(PI()*('Data'!B6-0.64952*'Data'!C6))+1.155*0.12))^2))/1000 | G8: =((PI()/4*((('Data'!B6-0.64952*'Data'!C6)+('Data'!B6-1.22687*'Data'!C6))/2)^2)*0.9*(940)/SQRT(1+3*(1.5*('Data'!B6-0.64952*'Data'!C6)/((('Data'!B6-0.64952*'Data'!C6)+('Data'!B6-1.22687*'Data'!C6))/2)*('Data'!C6/(PI()*('Data'!B6-0.64952*'Data'!C6))+1.155*0.12))^2))/1000 | H8: =((PI()/4*((('Data'!B6-0.64952*'Data'!C6)+('Data'!B6-1.22687*'Data'!C6))/2)^2)*0.9*(1100)/SQRT(1+3*(1.5*('Data'!B6-0.64952*'Data'!C6)/((('Data'!B6-0.64952*'Data'!C6)+('Data'!B6-1.22687*'Data'!C6))/2)*('Data'!C6/(PI()*('Data'!B6-0.64952*'Data'!C6))+1.155*0.12))^2))/1000
A9: ='Data'!A7 | B9: ='Data'!C7 | C9: =(((PI()/4*((('Data'!B7-0.64952*'Data'!C7)+('Data'!B7-1.22687*'Data'!C7))/2)^2)*0.9*(IF('Data'!B7<=16,640,660))/SQRT(1+3*(1.5*('Data'!B7-0.64952*'Data'!C7)/((('Data'!B7-0.64952*'Data'!C7)+('Data'!B7-1.22687*'Data'!C7))/2)*('Data'!C7/(PI()*('Data'!B7-0.64952*'Data'!C7))+1.155*0.12))^2))*(0.16*'Data'!C7+0.58*('Data'!B7-0.64952*'Data'!C7)*0.12+('Data'!D7+'Data'!E7)/4*0.12)/1000) | D9: =(((PI()/4*((('Data'!B7-0.64952*'Data'!C7)+('Data'!B7-1.22687*'Data'!C7))/2)^2)*0.9*(940)/SQRT(1+3*(1.5*('Data'!B7-0.64952*'Data'!C7)/((('Data'!B7-0.64952*'Data'!C7)+('Data'!B7-1.22687*'Data'!C7))/2)*('Data'!C7/(PI()*('Data'!B7-0.64952*'Data'!C7))+1.155*0.12))^2))*(0.16*'Data'!C7+0.58*('Data'!B7-0.64952*'Data'!C7)*0.12+('Data'!D7+'Data'!E7)/4*0.12)/1000) | E9: =(((PI()/4*((('Data'!B7-0.64952*'Data'!C7)+('Data'!B7-1.22687*'Data'!C7))/2)^2)*0.9*(1100)/SQRT(1+3*(1.5*('Data'!B7-0.64952*'Data'!C7)/((('Data'!B7-0.64952*'Data'!C7)+('Data'!B7-1.22687*'Data'!C7))/2)*('Data'!C7/(PI()*('Data'!B7-0.64952*'Data'!C7))+1.155*0.12))^2))*(0.16*'Data'!C7+0.58*('Data'!B7-0.64952*'Data'!C7)*0.12+('Data'!D7+'Data'!E7)/4*0.12)/1000) | F9: =((PI()/4*((('Data'!B7-0.64952*'Data'!C7)+('Data'!B7-1.22687*'Data'!C7))/2)^2)*0.9*(IF('Data'!B7<=16,640,660))/SQRT(1+3*(1.5*('Data'!B7-0.64952*'Data'!C7)/((('Data'!B7-0.64952*'Data'!C7)+('Data'!B7-1.22687*'Data'!C7))/2)*('Data'!C7/(PI()*('Data'!B7-0.64952*'Data'!C7))+1.155*0.12))^2))/1000 | G9: =((PI()/4*((('Data'!B7-0.64952*'Data'!C7)+('Data'!B7-1.22687*'Data'!C7))/2)^2)*0.9*(940)/SQRT(1+3*(1.5*('Data'!B7-0.64952*'Data'!C7)/((('Data'!B7-0.64952*'Data'!C7)+('Data'!B7-1.22687*'Data'!C7))/2)*('Data'!C7/(PI()*('Data'!B7-0.64952*'Data'!C7))+1.155*0.12))^2))/1000 | H9: =((PI()/4*((('Data'!B7-0.64952*'Data'!C7)+('Data'!B7-1.22687*'Data'!C7))/2)^2)*0.9*(1100)/SQRT(1+3*(1.5*('Data'!B7-0.64952*'Data'!C7)/((('Data'!B7-0.64952*'Data'!C7)+('Data'!B7-1.22687*'Data'!C7))/2)*('Data'!C7/(PI()*('Data'!B7-0.64952*'Data'!C7))+1.155*0.12))^2))/1000
A10: ='Data'!A8 | B10: ='Data'!C8 | C10: =(((PI()/4*((('Data'!B8-0.64952*'Data'!C8)+('Data'!B8-1.22687*'Data'!C8))/2)^2)*0.9*(IF('Data'!B8<=16,640,660))/SQRT(1+3*(1.5*('Data'!B8-0.64952*'Data'!C8)/((('Data'!B8-0.64952*'Data'!C8)+('Data'!B8-1.22687*'Data'!C8))/2)*('Data'!C8/(PI()*('Data'!B8-0.64952*'Data'!C8))+1.155*0.12))^2))*(0.16*'Data'!C8+0.58*('Data'!B8-0.64952*'Data'!C8)*0.12+('Data'!D8+'Data'!E8)/4*0.12)/1000) | D10: =(((PI()/4*((('Data'!B8-0.64952*'Data'!C8)+('Data'!B8-1.22687*'Data'!C8))/2)^2)*0.9*(940)/SQRT(1+3*(1.5*('Data'!B8-0.64952*'Data'!C8)/((('Data'!B8-0.64952*'Data'!C8)+('Data'!B8-1.22687*'Data'!C8))/2)*('Data'!C8/(PI()*('Data'!B8-0.64952*'Data'!C8))+1.155*0.12))^2))*(0.16*'Data'!C8+0.58*('Data'!B8-0.64952*'Data'!C8)*0.12+('Data'!D8+'Data'!E8)/4*0.12)/1000) | E10: =(((PI()/4*((('Data'!B8-0.64952*'Data'!C8)+('Data'!B8-1.22687*'Data'!C8))/2)^2)*0.9*(1100)/SQRT(1+3*(1.5*('Data'!B8-0.64952*'Data'!C8)/((('Data'!B8-0.64952*'Data'!C8)+('Data'!B8-1.22687*'Data'!C8))/2)*('Data'!C8/(PI()*('Data'!B8-0.64952*'Data'!C8))+1.155*0.12))^2))*(0.16*'Data'!C8+0.58*('Data'!B8-0.64952*'Data'!C8)*0.12+('Data'!D8+'Data'!E8)/4*0.12)/1000) | F10: =((PI()/4*((('Data'!B8-0.64952*'Data'!C8)+('Data'!B8-1.22687*'Data'!C8))/2)^2)*0.9*(IF('Data'!B8<=16,640,660))/SQRT(1+3*(1.5*('Data'!B8-0.64952*'Data'!C8)/((('Data'!B8-0.64952*'Data'!C8)+('Data'!B8-1.22687*'Data'!C8))/2)*('Data'!C8/(PI()*('Data'!B8-0.64952*'Data'!C8))+1.155*0.12))^2))/1000 | G10: =((PI()/4*((('Data'!B8-0.64952*'Data'!C8)+('Data'!B8-1.22687*'Data'!C8))/2)^2)*0.9*(940)/SQRT(1+3*(1.5*('Data'!B8-0.64952*'Data'!C8)/((('Data'!B8-0.64952*'Data'!C8)+('Data'!B8-1.22687*'Data'!C8))/2)*('Data'!C8/(PI()*('Data'!B8-0.64952*'Data'!C8))+1.155*0.12))^2))/1000 | H10: =((PI()/4*((('Data'!B8-0.64952*'Data'!C8)+('Data'!B8-1.22687*'Data'!C8))/2)^2)*0.9*(1100)/SQRT(1+3*(1.5*('Data'!B8-0.64952*'Data'!C8)/((('Data'!B8-0.64952*'Data'!C8)+('Data'!B8-1.22687*'Data'!C8))/2)*('Data'!C8/(PI()*('Data'!B8-0.64952*'Data'!C8))+1.155*0.12))^2))/1000
A11: ='Data'!A9 | B11: ='Data'!C9 | C11: =(((PI()/4*((('Data'!B9-0.64952*'Data'!C9)+('Data'!B9-1.22687*'Data'!C9))/2)^2)*0.9*(IF('Data'!B9<=16,640,660))/SQRT(1+3*(1.5*('Data'!B9-0.64952*'Data'!C9)/((('Data'!B9-0.64952*'Data'!C9)+('Data'!B9-1.22687*'Data'!C9))/2)*('Data'!C9/(PI()*('Data'!B9-0.64952*'Data'!C9))+1.155*0.12))^2))*(0.16*'Data'!C9+0.58*('Data'!B9-0.64952*'Data'!C9)*0.12+('Data'!D9+'Data'!E9)/4*0.12)/1000) | D11: =(((PI()/4*((('Data'!B9-0.64952*'Data'!C9)+('Data'!B9-1.22687*'Data'!C9))/2)^2)*0.9*(940)/SQRT(1+3*(1.5*('Data'!B9-0.64952*'Data'!C9)/((('Data'!B9-0.64952*'Data'!C9)+('Data'!B9-1.22687*'Data'!C9))/2)*('Data'!C9/(PI()*('Data'!B9-0.64952*'Data'!C9))+1.155*0.12))^2))*(0.16*'Data'!C9+0.58*('Data'!B9-0.64952*'Data'!C9)*0.12+('Data'!D9+'Data'!E9)/4*0.12)/1000) | E11: =(((PI()/4*((('Data'!B9-0.64952*'Data'!C9)+('Data'!B9-1.22687*'Data'!C9))/2)^2)*0.9*(1100)/SQRT(1+3*(1.5*('Data'!B9-0.64952*'Data'!C9)/((('Data'!B9-0.64952*'Data'!C9)+('Data'!B9-1.22687*'Data'!C9))/2)*('Data'!C9/(PI()*('Data'!B9-0.64952*'Data'!C9))+1.155*0.12))^2))*(0.16*'Data'!C9+0.58*('Data'!B9-0.64952*'Data'!C9)*0.12+('Data'!D9+'Data'!E9)/4*0.12)/1000) | F11: =((PI()/4*((('Data'!B9-0.64952*'Data'!C9)+('Data'!B9-1.22687*'Data'!C9))/2)^2)*0.9*(IF('Data'!B9<=16,640,660))/SQRT(1+3*(1.5*('Data'!B9-0.64952*'Data'!C9)/((('Data'!B9-0.64952*'Data'!C9)+('Data'!B9-1.22687*'Data'!C9))/2)*('Data'!C9/(PI()*('Data'!B9-0.64952*'Data'!C9))+1.155*0.12))^2))/1000 | G11: =((PI()/4*((('Data'!B9-0.64952*'Data'!C9)+('Data'!B9-1.22687*'Data'!C9))/2)^2)*0.9*(940)/SQRT(1+3*(1.5*('Data'!B9-0.64952*'Data'!C9)/((('Data'!B9-0.64952*'Data'!C9)+('Data'!B9-1.22687*'Data'!C9))/2)*('Data'!C9/(PI()*('Data'!B9-0.64952*'Data'!C9))+1.155*0.12))^2))/1000 | H11: =((PI()/4*((('Data'!B9-0.64952*'Data'!C9)+('Data'!B9-1.22687*'Data'!C9))/2)^2)*0.9*(1100)/SQRT(1+3*(1.5*('Data'!B9-0.64952*'Data'!C9)/((('Data'!B9-0.64952*'Data'!C9)+('Data'!B9-1.22687*'Data'!C9))/2)*('Data'!C9/(PI()*('Data'!B9-0.64952*'Data'!C9))+1.155*0.12))^2))/1000
A12: ='Data'!A10 | B12: ='Data'!C10 | C12: =(((PI()/4*((('Data'!B10-0.64952*'Data'!C10)+('Data'!B10-1.22687*'Data'!C10))/2)^2)*0.9*(IF('Data'!B10<=16,640,660))/SQRT(1+3*(1.5*('Data'!B10-0.64952*'Data'!C10)/((('Data'!B10-0.64952*'Data'!C10)+('Data'!B10-1.22687*'Data'!C10))/2)*('Data'!C10/(PI()*('Data'!B10-0.64952*'Data'!C10))+1.155*0.12))^2))*(0.16*'Data'!C10+0.58*('Data'!B10-0.64952*'Data'!C10)*0.12+('Data'!D10+'Data'!E10)/4*0.12)/1000) | D12: =(((PI()/4*((('Data'!B10-0.64952*'Data'!C10)+('Data'!B10-1.22687*'Data'!C10))/2)^2)*0.9*(940)/SQRT(1+3*(1.5*('Data'!B10-0.64952*'Data'!C10)/((('Data'!B10-0.64952*'Data'!C10)+('Data'!B10-1.22687*'Data'!C10))/2)*('Data'!C10/(PI()*('Data'!B10-0.64952*'Data'!C10))+1.155*0.12))^2))*(0.16*'Data'!C10+0.58*('Data'!B10-0.64952*'Data'!C10)*0.12+('Data'!D10+'Data'!E10)/4*0.12)/1000) | E12: =(((PI()/4*((('Data'!B10-0.64952*'Data'!C10)+('Data'!B10-1.22687*'Data'!C10))/2)^2)*0.9*(1100)/SQRT(1+3*(1.5*('Data'!B10-0.64952*'Data'!C10)/((('Data'!B10-0.64952*'Data'!C10)+('Data'!B10-1.22687*'Data'!C10))/2)*('Data'!C10/(PI()*('Data'!B10-0.64952*'Data'!C10))+1.155*0.12))^2))*(0.16*'Data'!C10+0.58*('Data'!B10-0.64952*'Data'!C10)*0.12+('Data'!D10+'Data'!E10)/4*0.12)/1000) | F12: =((PI()/4*((('Data'!B10-0.64952*'Data'!C10)+('Data'!B10-1.22687*'Data'!C10))/2)^2)*0.9*(IF('Data'!B10<=16,640,660))/SQRT(1+3*(1.5*('Data'!B10-0.64952*'Data'!C10)/((('Data'!B10-0.64952*'Data'!C10)+('Data'!B10-1.22687*'Data'!C10))/2)*('Data'!C10/(PI()*('Data'!B10-0.64952*'Data'!C10))+1.155*0.12))^2))/1000 | G12: =((PI()/4*((('Data'!B10-0.64952*'Data'!C10)+('Data'!B10-1.22687*'Data'!C10))/2)^2)*0.9*(940)/SQRT(1+3*(1.5*('Data'!B10-0.64952*'Data'!C10)/((('Data'!B10-0.64952*'Data'!C10)+('Data'!B10-1.22687*'Data'!C10))/2)*('Data'!C10/(PI()*('Data'!B10-0.64952*'Data'!C10))+1.155*0.12))^2))/1000 | H12: =((PI()/4*((('Data'!B10-0.64952*'Data'!C10)+('Data'!B10-1.22687*'Data'!C10))/2)^2)*0.9*(1100)/SQRT(1+3*(1.5*('Data'!B10-0.64952*'Data'!C10)/((('Data'!B10-0.64952*'Data'!C10)+('Data'!B10-1.22687*'Data'!C10))/2)*('Data'!C10/(PI()*('Data'!B10-0.64952*'Data'!C10))+1.155*0.12))^2))/1000
A13: ='Data'!A11 | B13: ='Data'!C11 | C13: =(((PI()/4*((('Data'!B11-0.64952*'Data'!C11)+('Data'!B11-1.22687*'Data'!C11))/2)^2)*0.9*(IF('Data'!B11<=16,640,660))/SQRT(1+3*(1.5*('Data'!B11-0.64952*'Data'!C11)/((('Data'!B11-0.64952*'Data'!C11)+('Data'!B11-1.22687*'Data'!C11))/2)*('Data'!C11/(PI()*('Data'!B11-0.64952*'Data'!C11))+1.155*0.12))^2))*(0.16*'Data'!C11+0.58*('Data'!B11-0.64952*'Data'!C11)*0.12+('Data'!D11+'Data'!E11)/4*0.12)/1000) | D13: =(((PI()/4*((('Data'!B11-0.64952*'Data'!C11)+('Data'!B11-1.22687*'Data'!C11))/2)^2)*0.9*(940)/SQRT(1+3*(1.5*('Data'!B11-0.64952*'Data'!C11)/((('Data'!B11-0.64952*'Data'!C11)+('Data'!B11-1.22687*'Data'!C11))/2)*('Data'!C11/(PI()*('Data'!B11-0.64952*'Data'!C11))+1.155*0.12))^2))*(0.16*'Data'!C11+0.58*('Data'!B11-0.64952*'Data'!C11)*0.12+('Data'!D11+'Data'!E11)/4*0.12)/1000) | E13: =(((PI()/4*((('Data'!B11-0.64952*'Data'!C11)+('Data'!B11-1.22687*'Data'!C11))/2)^2)*0.9*(1100)/SQRT(1+3*(1.5*('Data'!B11-0.64952*'Data'!C11)/((('Data'!B11-0.64952*'Data'!C11)+('Data'!B11-1.22687*'Data'!C11))/2)*('Data'!C11/(PI()*('Data'!B11-0.64952*'Data'!C11))+1.155*0.12))^2))*(0.16*'Data'!C11+0.58*('Data'!B11-0.64952*'Data'!C11)*0.12+('Data'!D11+'Data'!E11)/4*0.12)/1000) | F13: =((PI()/4*((('Data'!B11-0.64952*'Data'!C11)+('Data'!B11-1.22687*'Data'!C11))/2)^2)*0.9*(IF('Data'!B11<=16,640,660))/SQRT(1+3*(1.5*('Data'!B11-0.64952*'Data'!C11)/((('Data'!B11-0.64952*'Data'!C11)+('Data'!B11-1.22687*'Data'!C11))/2)*('Data'!C11/(PI()*('Data'!B11-0.64952*'Data'!C11))+1.155*0.12))^2))/1000 | G13: =((PI()/4*((('Data'!B11-0.64952*'Data'!C11)+('Data'!B11-1.22687*'Data'!C11))/2)^2)*0.9*(940)/SQRT(1+3*(1.5*('Data'!B11-0.64952*'Data'!C11)/((('Data'!B11-0.64952*'Data'!C11)+('Data'!B11-1.22687*'Data'!C11))/2)*('Data'!C11/(PI()*('Data'!B11-0.64952*'Data'!C11))+1.155*0.12))^2))/1000 | H13: =((PI()/4*((('Data'!B11-0.64952*'Data'!C11)+('Data'!B11-1.22687*'Data'!C11))/2)^2)*0.9*(1100)/SQRT(1+3*(1.5*('Data'!B11-0.64952*'Data'!C11)/((('Data'!B11-0.64952*'Data'!C11)+('Data'!B11-1.22687*'Data'!C11))/2)*('Data'!C11/(PI()*('Data'!B11-0.64952*'Data'!C11))+1.155*0.12))^2))/1000
A14: ='Data'!A12 | B14: ='Data'!C12 | C14: =(((PI()/4*((('Data'!B12-0.64952*'Data'!C12)+('Data'!B12-1.22687*'Data'!C12))/2)^2)*0.9*(IF('Data'!B12<=16,640,660))/SQRT(1+3*(1.5*('Data'!B12-0.64952*'Data'!C12)/((('Data'!B12-0.64952*'Data'!C12)+('Data'!B12-1.22687*'Data'!C12))/2)*('Data'!C12/(PI()*('Data'!B12-0.64952*'Data'!C12))+1.155*0.12))^2))*(0.16*'Data'!C12+0.58*('Data'!B12-0.64952*'Data'!C12)*0.12+('Data'!D12+'Data'!E12)/4*0.12)/1000) | D14: =(((PI()/4*((('Data'!B12-0.64952*'Data'!C12)+('Data'!B12-1.22687*'Data'!C12))/2)^2)*0.9*(940)/SQRT(1+3*(1.5*('Data'!B12-0.64952*'Data'!C12)/((('Data'!B12-0.64952*'Data'!C12)+('Data'!B12-1.22687*'Data'!C12))/2)*('Data'!C12/(PI()*('Data'!B12-0.64952*'Data'!C12))+1.155*0.12))^2))*(0.16*'Data'!C12+0.58*('Data'!B12-0.64952*'Data'!C12)*0.12+('Data'!D12+'Data'!E12)/4*0.12)/1000) | E14: =(((PI()/4*((('Data'!B12-0.64952*'Data'!C12)+('Data'!B12-1.22687*'Data'!C12))/2)^2)*0.9*(1100)/SQRT(1+3*(1.5*('Data'!B12-0.64952*'Data'!C12)/((('Data'!B12-0.64952*'Data'!C12)+('Data'!B12-1.22687*'Data'!C12))/2)*('Data'!C12/(PI()*('Data'!B12-0.64952*'Data'!C12))+1.155*0.12))^2))*(0.16*'Data'!C12+0.58*('Data'!B12-0.64952*'Data'!C12)*0.12+('Data'!D12+'Data'!E12)/4*0.12)/1000) | F14: =((PI()/4*((('Data'!B12-0.64952*'Data'!C12)+('Data'!B12-1.22687*'Data'!C12))/2)^2)*0.9*(IF('Data'!B12<=16,640,660))/SQRT(1+3*(1.5*('Data'!B12-0.64952*'Data'!C12)/((('Data'!B12-0.64952*'Data'!C12)+('Data'!B12-1.22687*'Data'!C12))/2)*('Data'!C12/(PI()*('Data'!B12-0.64952*'Data'!C12))+1.155*0.12))^2))/1000 | G14: =((PI()/4*((('Data'!B12-0.64952*'Data'!C12)+('Data'!B12-1.22687*'Data'!C12))/2)^2)*0.9*(940)/SQRT(1+3*(1.5*('Data'!B12-0.64952*'Data'!C12)/((('Data'!B12-0.64952*'Data'!C12)+('Data'!B12-1.22687*'Data'!C12))/2)*('Data'!C12/(PI()*('Data'!B12-0.64952*'Data'!C12))+1.155*0.12))^2))/1000 | H14: =((PI()/4*((('Data'!B12-0.64952*'Data'!C12)+('Data'!B12-1.22687*'Data'!C12))/2)^2)*0.9*(1100)/SQRT(1+3*(1.5*('Data'!B12-0.64952*'Data'!C12)/((('Data'!B12-0.64952*'Data'!C12)+('Data'!B12-1.22687*'Data'!C12))/2)*('Data'!C12/(PI()*('Data'!B12-0.64952*'Data'!C12))+1.155*0.12))^2))/1000
A15: ='Data'!A13 | B15: ='Data'!C13 | C15: =(((PI()/4*((('Data'!B13-0.64952*'Data'!C13)+('Data'!B13-1.22687*'Data'!C13))/2)^2)*0.9*(IF('Data'!B13<=16,640,660))/SQRT(1+3*(1.5*('Data'!B13-0.64952*'Data'!C13)/((('Data'!B13-0.64952*'Data'!C13)+('Data'!B13-1.22687*'Data'!C13))/2)*('Data'!C13/(PI()*('Data'!B13-0.64952*'Data'!C13))+1.155*0.12))^2))*(0.16*'Data'!C13+0.58*('Data'!B13-0.64952*'Data'!C13)*0.12+('Data'!D13+'Data'!E13)/4*0.12)/1000) | D15: =(((PI()/4*((('Data'!B13-0.64952*'Data'!C13)+('Data'!B13-1.22687*'Data'!C13))/2)^2)*0.9*(940)/SQRT(1+3*(1.5*('Data'!B13-0.64952*'Data'!C13)/((('Data'!B13-0.64952*'Data'!C13)+('Data'!B13-1.22687*'Data'!C13))/2)*('Data'!C13/(PI()*('Data'!B13-0.64952*'Data'!C13))+1.155*0.12))^2))*(0.16*'Data'!C13+0.58*('Data'!B13-0.64952*'Data'!C13)*0.12+('Data'!D13+'Data'!E13)/4*0.12)/1000) | E15: =(((PI()/4*((('Data'!B13-0.64952*'Data'!C13)+('Data'!B13-1.22687*'Data'!C13))/2)^2)*0.9*(1100)/SQRT(1+3*(1.5*('Data'!B13-0.64952*'Data'!C13)/((('Data'!B13-0.64952*'Data'!C13)+('Data'!B13-1.22687*'Data'!C13))/2)*('Data'!C13/(PI()*('Data'!B13-0.64952*'Data'!C13))+1.155*0.12))^2))*(0.16*'Data'!C13+0.58*('Data'!B13-0.64952*'Data'!C13)*0.12+('Data'!D13+'Data'!E13)/4*0.12)/1000) | F15: =((PI()/4*((('Data'!B13-0.64952*'Data'!C13)+('Data'!B13-1.22687*'Data'!C13))/2)^2)*0.9*(IF('Data'!B13<=16,640,660))/SQRT(1+3*(1.5*('Data'!B13-0.64952*'Data'!C13)/((('Data'!B13-0.64952*'Data'!C13)+('Data'!B13-1.22687*'Data'!C13))/2)*('Data'!C13/(PI()*('Data'!B13-0.64952*'Data'!C13))+1.155*0.12))^2))/1000 | G15: =((PI()/4*((('Data'!B13-0.64952*'Data'!C13)+('Data'!B13-1.22687*'Data'!C13))/2)^2)*0.9*(940)/SQRT(1+3*(1.5*('Data'!B13-0.64952*'Data'!C13)/((('Data'!B13-0.64952*'Data'!C13)+('Data'!B13-1.22687*'Data'!C13))/2)*('Data'!C13/(PI()*('Data'!B13-0.64952*'Data'!C13))+1.155*0.12))^2))/1000 | H15: =((PI()/4*((('Data'!B13-0.64952*'Data'!C13)+('Data'!B13-1.22687*'Data'!C13))/2)^2)*0.9*(1100)/SQRT(1+3*(1.5*('Data'!B13-0.64952*'Data'!C13)/((('Data'!B13-0.64952*'Data'!C13)+('Data'!B13-1.22687*'Data'!C13))/2)*('Data'!C13/(PI()*('Data'!B13-0.64952*'Data'!C13))+1.155*0.12))^2))/1000
... A17: ='Data'!A15 | B17: ='Data'!C15 | C17: =(((PI()/4*((('Data'!B15-0.64952*'Data'!C15)+('Data'!B15-1.22687*'Data'!C15))/2)^2)*0.9*(IF('Data'!B15<=16,640,660))/SQRT(1+3*(1.5*('Data'!B15-0.64952*'Data'!C15)/((('Data'!B15-0.64952*'Data'!C15)+('Data'!B15-1.22687*'Data'!C15))/2)*('Data'!C15/(PI()*('Data'!B15-0.64952*'Data'!C15))+1.155*0.12))^2))*(0.16*'Data'!C15+0.58*('Data'!B15-0.64952*'Data'!C15)*0.12+('Data'!D15+'Data'!E15)/4*0.12)/1000) | D17: =(((PI()/4*((('Data'!B15-0.64952*'Data'!C15)+('Data'!B15-1.22687*'Data'!C15))/2)^2)*0.9*(940)/SQRT(1+3*(1.5*('Data'!B15-0.64952*'Data'!C15)/((('Data'!B15-0.64952*'Data'!C15)+('Data'!B15-1.22687*'Data'!C15))/2)*('Data'!C15/(PI()*('Data'!B15-0.64952*'Data'!C15))+1.155*0.12))^2))*(0.16*'Data'!C15+0.58*('Data'!B15-0.64952*'Data'!C15)*0.12+('Data'!D15+'Data'!E15)/4*0.12)/1000) | E17: =(((PI()/4*((('Data'!B15-0.64952*'Data'!C15)+('Data'!B15-1.22687*'Data'!C15))/2)^2)*0.9*(1100)/SQRT(1+3*(1.5*('Data'!B15-0.64952*'Data'!C15)/((('Data'!B15-0.64952*'Data'!C15)+('Data'!B15-1.22687*'Data'!C15))/2)*('Data'!C15/(PI()*('Data'!B15-0.64952*'Data'!C15))+1.155*0.12))^2))*(0.16*'Data'!C15+0.58*('Data'!B15-0.64952*'Data'!C15)*0.12+('Data'!D15+'Data'!E15)/4*0.12)/1000) | F17: =((PI()/4*((('Data'!B15-0.64952*'Data'!C15)+('Data'!B15-1.22687*'Data'!C15))/2)^2)*0.9*(IF('Data'!B15<=16,640,660))/SQRT(1+3*(1.5*('Data'!B15-0.64952*'Data'!C15)/((('Data'!B15-0.64952*'Data'!C15)+('Data'!B15-1.22687*'Data'!C15))/2)*('Data'!C15/(PI()*('Data'!B15-0.64952*'Data'!C15))+1.155*0.12))^2))/1000 | G17: =((PI()/4*((('Data'!B15-0.64952*'Data'!C15)+('Data'!B15-1.22687*'Data'!C15))/2)^2)*0.9*(940)/SQRT(1+3*(1.5*('Data'!B15-0.64952*'Data'!C15)/((('Data'!B15-0.64952*'Data'!C15)+('Data'!B15-1.22687*'Data'!C15))/2)*('Data'!C15/(PI()*('Data'!B15-0.64952*'Data'!C15))+1.155*0.12))^2))/1000 | H17: =((PI()/4*((('Data'!B15-0.64952*'Data'!C15)+('Data'!B15-1.22687*'Data'!C15))/2)^2)*0.9*(1100)/SQRT(1+3*(1.5*('Data'!B15-0.64952*'Data'!C15)/((('Data'!B15-0.64952*'Data'!C15)+('Data'!B15-1.22687*'Data'!C15))/2)*('Data'!C15/(PI()*('Data'!B15-0.64952*'Data'!C15))+1.155*0.12))^2))/1000
